BEGIN:VCALENDAR
VERSION:2.0
PRODID:-//K-TIMe | KTIM 89.1 FM Music Sports Talk Radio | La Grange, Texas - ECPv6.15.20//NONSGML v1.0//EN
CALSCALE:GREGORIAN
METHOD:PUBLISH
X-WR-CALNAME:K-TIMe | KTIM 89.1 FM Music Sports Talk Radio | La Grange, Texas
X-ORIGINAL-URL:https://www.ktim.org
X-WR-CALDESC:Events for K-TIMe | KTIM 89.1 FM Music Sports Talk Radio | La Grange, Texas
REFRESH-INTERVAL;VALUE=DURATION:PT1H
X-Robots-Tag:noindex
X-PUBLISHED-TTL:PT1H
BEGIN:VTIMEZONE
TZID:America/Chicago
BEGIN:DAYLIGHT
TZOFFSETFROM:-0600
TZOFFSETTO:-0500
TZNAME:CDT
DTSTART:20240310T080000
END:DAYLIGHT
BEGIN:STANDARD
TZOFFSETFROM:-0500
TZOFFSETTO:-0600
TZNAME:CST
DTSTART:20241103T070000
END:STANDARD
BEGIN:DAYLIGHT
TZOFFSETFROM:-0600
TZOFFSETTO:-0500
TZNAME:CDT
DTSTART:20250309T080000
END:DAYLIGHT
BEGIN:STANDARD
TZOFFSETFROM:-0500
TZOFFSETTO:-0600
TZNAME:CST
DTSTART:20251102T070000
END:STANDARD
BEGIN:DAYLIGHT
TZOFFSETFROM:-0600
TZOFFSETTO:-0500
TZNAME:CDT
DTSTART:20260308T080000
END:DAYLIGHT
BEGIN:STANDARD
TZOFFSETFROM:-0500
TZOFFSETTO:-0600
TZNAME:CST
DTSTART:20261101T070000
END:STANDARD
END:VTIMEZONE
BEGIN:VEVENT
DTSTART;TZID=America/Chicago:20250905T000000
DTEND;TZID=America/Chicago:20250905T010000
DTSTAMP:20260424T063446
CREATED:20250416T233519Z
LAST-MODIFIED:20250416T233519Z
UID:10003040-1757030400-1757034000@www.ktim.org
SUMMARY:The Rock and Roll Show
DESCRIPTION:Hosted by Doug Elliot\nWednesdays 5-6pm\, Fridays Midnight-1am\, Sundays 9pm-10pm \nThe Rock and Roll Show mixes nuggets from LPs with a healthy dose of B-sides. A little history and backstory shows up now and then in between the tunes. \nDoug Elliot\, aka “The Fayette County Sky Guy”\, grew up listening to 45s and LPs back in the 60s and has been a record collector and certified music nut ever since. He spends as much time outdoors as he can.
URL:https://www.ktim.org/event/the-rock-and-roll-show-3/2025-09-05/
ATTACH;FMTTYPE=image/jpeg:https://www.ktim.org/wp-content/uploads/2025/04/doug_400x200.jpg
END:VEVENT
BEGIN:VEVENT
DTSTART;TZID=America/Chicago:20250905T100000
DTEND;TZID=America/Chicago:20250905T120000
DTSTAMP:20260424T063446
CREATED:20250416T235730Z
LAST-MODIFIED:20250416T235730Z
UID:10004249-1757066400-1757073600@www.ktim.org
SUMMARY:Across the Board with Becky
DESCRIPTION:
URL:https://www.ktim.org/event/across-the-board-with-becky-2/2025-09-05/
END:VEVENT
BEGIN:VEVENT
DTSTART;TZID=America/Chicago:20250905T120000
DTEND;TZID=America/Chicago:20250905T130000
DTSTAMP:20260424T063446
CREATED:20250416T234837Z
LAST-MODIFIED:20250416T234837Z
UID:10003697-1757073600-1757077200@www.ktim.org
SUMMARY:The DougHouse
DESCRIPTION:Hosted by Doug Elliot\nMondays 5pm-6pm\, Fridays Noon-1pm \nThe DougHouse mixes nuggets from LPs with a healthy dose of B-sides. A little history and backstory shows up now and then in between the tunes. \nDoug Elliot\, aka “The Fayette County Sky Guy”\, grew up listening to 45s and LPs back in the 60s and has been a record collector and certified music nut ever since. He spends as much time outdoors as he can.
URL:https://www.ktim.org/event/the-doughouse-2/2025-09-05/
ATTACH;FMTTYPE=image/jpeg:https://www.ktim.org/wp-content/uploads/2025/04/doug_400x200.jpg
END:VEVENT
BEGIN:VEVENT
DTSTART;TZID=America/Chicago:20250905T180000
DTEND;TZID=America/Chicago:20250905T190000
DTSTAMP:20260424T063446
CREATED:20250904T011402Z
LAST-MODIFIED:20250904T011427Z
UID:10005016-1757095200-1757098800@www.ktim.org
SUMMARY:Bugle Boy Mix
DESCRIPTION:Hosted by The Bugle Boy\nMonday-Saturday 6pm-8pm \nBugle Boy Mix is a mix of music by artists that have played The Bugle Boy in La Grange\, Texas. The Bugle Boy is a unique venue that features top national and international independent artists in the genres of Americana\, blues\, rock and folk. For more information and show schedules visit thebugleboy.org.
URL:https://www.ktim.org/event/bugle-boy-mix-10/
ATTACH;FMTTYPE=image/jpeg:https://www.ktim.org/wp-content/uploads/2025/04/Bugle_Boy_KTIM_400x200.jpg
END:VEVENT
BEGIN:VEVENT
DTSTART;TZID=America/Chicago:20250905T190000
DTEND;TZID=America/Chicago:20250905T223000
DTSTAMP:20260424T063446
CREATED:20250904T011246Z
LAST-MODIFIED:20250906T015759Z
UID:10006852-1757098800-1757111400@www.ktim.org
SUMMARY:Columbus Cardinals Football vs La Grange Leopards (7:00 PM Sep 5 2025)
DESCRIPTION:The La Grange Leopards host reigning Class 3A Division I State Champions\, The Columbus Cardinals with a 7:00pm pregame on 89.1FM and video at www.ktim.org and a 7:30pm kickoff with Eddie Oppermann\, Lyndsey Vasek and Aaron Janda on the call! \nLast year when the Leps took the trip east to Cardinal Field\, La Grange fell victim to a State Championship worthy Columbus team by the score of 63-21. La Grange looks to get one back on a Columbus team coming off a loss to Cuero 21-28 while La Grange is fresh off a victory over Cameron Yoe by the score of 41-14. \nIt will also be “PAWS for the CAUSE” a non-profit group that raises money to help people that are battling cancer. \nK-TIMe – The Only Place to Watch the Leopards Play! \nVIEW GAME LIVE!NOTE: To watch the live video for this game (or just listen to the audio)\, come back at the event start time and click the above button link (and then the WATCH icon next to your event) to live-stream the VIDEO portion of the game on your computer\, tablet\, or smartphone. \nOnce the game broadcast has been completed\, if you would like to VIEW (or simply listen to) a portion or all of the game again\, select the above link\, and this time\, select the ON DEMAND tab from the KTIM portal page\, and then click the WATCH icon for this game to view the video\, or just listen to the audio.
URL:https://www.ktim.org/event/columbus-cardinals-football-vs-la-grange-leopards-700-pm-sep-5-2025/
ATTACH;FMTTYPE=image/jpeg:https://www.ktim.org/wp-content/uploads/2025/09/columbus_cardinals_football_la_grange_leopards.jpg
END:VEVENT
BEGIN:VEVENT
DTSTART;TZID=America/Chicago:20250905T190000
DTEND;TZID=America/Chicago:20250905T223000
DTSTAMP:20260424T063446
CREATED:20250904T014537Z
LAST-MODIFIED:20250906T020532Z
UID:10006935-1757098800-1757111400@www.ktim.org
SUMMARY:Rogers Eagles Football vs Schulenburg Shorthorns (7:00 PM Sep 5 2025)
DESCRIPTION:Friday night football with the Schulenburg Shorthorns\, as they look to improve their record after a commanding season opener against Sacred Heart by the score of 42-0! They will take on The Rogers Eagles who are also 1-0 and fresh off of a win against Groesbeck 38-21. The last time these two teams faced was last season where the Eagles came out victorious by the score of 63-56 over the Shorthorns. \nKickoff at 7:30pm\, but the pregame on www.ktim.org is set for 7:00pm with Mike and Montana Olle! \nK-TIMe – The Only Place to Watch the Shorthorns Play! \nVIEW GAME LIVE!NOTE: To watch the live video for this game (or just listen to the audio)\, come back at the event start time and click the above button link (and then the WATCH icon next to your event) to live-stream the VIDEO portion of the game on your computer\, tablet\, or smartphone. \nOnce the game broadcast has been completed\, if you would like to VIEW (or simply listen to) a portion or all of the game again\, select the above link\, and this time\, select the ON DEMAND tab from the KTIM portal page\, and then click the WATCH icon for this game to view the video\, or just listen to the audio.
URL:https://www.ktim.org/event/rogers-eagles-football-vs-schulenburg-shorthorns-700-pm-sep-5-2025/
ATTACH;FMTTYPE=image/jpeg:https://www.ktim.org/wp-content/uploads/2025/09/rogers_eagles_football_schulenburg_shorthorns.jpg
END:VEVENT
END:VCALENDAR