BEGIN:VCALENDAR
VERSION:2.0
PRODID:-//K-TIMe | KTIM 89.1 FM Music Sports Talk Radio | La Grange, Texas - ECPv6.15.20//NONSGML v1.0//EN
CALSCALE:GREGORIAN
METHOD:PUBLISH
X-ORIGINAL-URL:https://www.ktim.org
X-WR-CALDESC:Events for K-TIMe | KTIM 89.1 FM Music Sports Talk Radio | La Grange, Texas
REFRESH-INTERVAL;VALUE=DURATION:PT1H
X-Robots-Tag:noindex
X-PUBLISHED-TTL:PT1H
BEGIN:VTIMEZONE
TZID:America/Chicago
BEGIN:DAYLIGHT
TZOFFSETFROM:-0600
TZOFFSETTO:-0500
TZNAME:CDT
DTSTART:20240310T080000
END:DAYLIGHT
BEGIN:STANDARD
TZOFFSETFROM:-0500
TZOFFSETTO:-0600
TZNAME:CST
DTSTART:20241103T070000
END:STANDARD
BEGIN:DAYLIGHT
TZOFFSETFROM:-0600
TZOFFSETTO:-0500
TZNAME:CDT
DTSTART:20250309T080000
END:DAYLIGHT
BEGIN:STANDARD
TZOFFSETFROM:-0500
TZOFFSETTO:-0600
TZNAME:CST
DTSTART:20251102T070000
END:STANDARD
BEGIN:DAYLIGHT
TZOFFSETFROM:-0600
TZOFFSETTO:-0500
TZNAME:CDT
DTSTART:20260308T080000
END:DAYLIGHT
BEGIN:STANDARD
TZOFFSETFROM:-0500
TZOFFSETTO:-0600
TZNAME:CST
DTSTART:20261101T070000
END:STANDARD
END:VTIMEZONE
BEGIN:VEVENT
DTSTART;TZID=America/Chicago:20251007T120000
DTEND;TZID=America/Chicago:20251007T140000
DTSTAMP:20260424T100254
CREATED:20250416T235621Z
LAST-MODIFIED:20250416T235621Z
UID:10003977-1759838400-1759845600@www.ktim.org
SUMMARY:Across the Board with Becky
DESCRIPTION:
URL:https://www.ktim.org/event/across-the-board-with-becky/2025-10-07/
END:VEVENT
BEGIN:VEVENT
DTSTART;TZID=America/Chicago:20251007T180000
DTEND;TZID=America/Chicago:20251007T200000
DTSTAMP:20260424T100254
CREATED:20251006T215548Z
LAST-MODIFIED:20251008T055158Z
UID:10006974-1759860000-1759867200@www.ktim.org
SUMMARY:Caldwell Lady Hornets Volleyball vs La Grange Lady Leopards (5:45 PM Oct 7 2025)
DESCRIPTION:Volleyball action on K-TIMe! District Week 3\, and the La Grange Lady Leps (3-1) will host The Lady Hornets of Caldwell (3-1). This game on radio and video via KTIM 89.1FM and www.ktim.org with pregame to begin at 5:45pm with Lee Fritsch and Lyndsey Vasek! \nVIEW GAME LIVE!NOTE: To watch the live video for this game (or just listen to the audio)\, come back at the event start time and click the above button link (and then the WATCH icon next to your event) to live-stream the VIDEO portion of the game on your computer\, tablet\, or smartphone. \nOnce the game broadcast has been completed\, if you would like to VIEW (or simply listen to) a portion or all of the game again\, select the above link\, and this time\, select the ON DEMAND tab from the KTIM portal page\, and then click the WATCH icon for this game to view the video\, or just listen to the audio.
URL:https://www.ktim.org/event/caldwell-lady-hornets-volleyball-vs-la-grange-lady-leopards-545-pm-oct-7-2025/
ATTACH;FMTTYPE=image/jpeg:https://www.ktim.org/wp-content/uploads/2025/10/caldwell_lady_hornets_volleyball_la_grange_lady_leopards.jpg
END:VEVENT
BEGIN:VEVENT
DTSTART;TZID=America/Chicago:20251007T180000
DTEND;TZID=America/Chicago:20251007T200000
DTSTAMP:20260424T100254
CREATED:20251006T220844Z
LAST-MODIFIED:20251008T055324Z
UID:10006975-1759860000-1759867200@www.ktim.org
SUMMARY:Schulenburg Lady Horns Volleyball vs Flatonia Lady Dogs (5:45 PM Oct 7 2025)
DESCRIPTION:More K-TIMe volleyball\, as the Schulenburg Lady Horns (3-1) will travel down the road to The Flatonia Lady Bulldogs (3-1)! This matchup has a pregame of 6:45pm with Seth Eckhardt on www.ktim.org! \nVIEW GAME LIVE!NOTE: To watch the live video for this game (or just listen to the audio)\, come back at the event start time and click the above button link (and then the WATCH icon next to your event) to live-stream the VIDEO portion of the game on your computer\, tablet\, or smartphone. \nOnce the game broadcast has been completed\, if you would like to VIEW (or simply listen to) a portion or all of the game again\, select the above link\, and this time\, select the ON DEMAND tab from the KTIM portal page\, and then click the WATCH icon for this game to view the video\, or just listen to the audio.
URL:https://www.ktim.org/event/schulenburg-lady-horns-volleyball-vs-flatonia-lady-dogs-545-pm-oct-7-2025/
ATTACH;FMTTYPE=image/jpeg:https://www.ktim.org/wp-content/uploads/2025/10/schulenburg_lady_horns_volleyball_flatonia_lady_dogs.jpg
END:VEVENT
END:VCALENDAR