BEGIN:VCALENDAR
VERSION:2.0
PRODID:-//K-TIMe | KTIM 89.1 FM Music Sports Talk Radio | La Grange, Texas - ECPv6.15.20//NONSGML v1.0//EN
CALSCALE:GREGORIAN
METHOD:PUBLISH
X-ORIGINAL-URL:https://www.ktim.org
X-WR-CALDESC:Events for K-TIMe | KTIM 89.1 FM Music Sports Talk Radio | La Grange, Texas
REFRESH-INTERVAL;VALUE=DURATION:PT1H
X-Robots-Tag:noindex
X-PUBLISHED-TTL:PT1H
BEGIN:VTIMEZONE
TZID:America/Chicago
BEGIN:DAYLIGHT
TZOFFSETFROM:-0600
TZOFFSETTO:-0500
TZNAME:CDT
DTSTART:20240310T080000
END:DAYLIGHT
BEGIN:STANDARD
TZOFFSETFROM:-0500
TZOFFSETTO:-0600
TZNAME:CST
DTSTART:20241103T070000
END:STANDARD
BEGIN:DAYLIGHT
TZOFFSETFROM:-0600
TZOFFSETTO:-0500
TZNAME:CDT
DTSTART:20250309T080000
END:DAYLIGHT
BEGIN:STANDARD
TZOFFSETFROM:-0500
TZOFFSETTO:-0600
TZNAME:CST
DTSTART:20251102T070000
END:STANDARD
BEGIN:DAYLIGHT
TZOFFSETFROM:-0600
TZOFFSETTO:-0500
TZNAME:CDT
DTSTART:20260308T080000
END:DAYLIGHT
BEGIN:STANDARD
TZOFFSETFROM:-0500
TZOFFSETTO:-0600
TZNAME:CST
DTSTART:20261101T070000
END:STANDARD
END:VTIMEZONE
BEGIN:VEVENT
DTSTART;TZID=America/Chicago:20251021T120000
DTEND;TZID=America/Chicago:20251021T140000
DTSTAMP:20260424T045440
CREATED:20250416T235621Z
LAST-MODIFIED:20250416T235621Z
UID:10003979-1761048000-1761055200@www.ktim.org
SUMMARY:Across the Board with Becky
DESCRIPTION:
URL:https://www.ktim.org/event/across-the-board-with-becky/2025-10-21/
END:VEVENT
BEGIN:VEVENT
DTSTART;TZID=America/Chicago:20251021T180000
DTEND;TZID=America/Chicago:20251021T200000
DTSTAMP:20260424T045440
CREATED:20251021T140511Z
LAST-MODIFIED:20251021T142401Z
UID:10006982-1761069600-1761076800@www.ktim.org
SUMMARY:La Grange Lady Leopards Volleyball vs Smithville Lady Tigers (5:45 PM Oct 21 2025)
DESCRIPTION:Volleyball Action on K-TIMe\, as the La Grange Lady Leps 5-3 will travel to take on the Smithville Lady Tigers 2-6! This one is radio only at KTIM 89.1FM with Lee Fritsch and pregame at 5:45pm!
URL:https://www.ktim.org/event/la-grange-lady-leopards-volleyball-vs-smithville-lady-tigers-545-pm-oct-21-2025/
ATTACH;FMTTYPE=image/jpeg:https://www.ktim.org/wp-content/uploads/2025/10/la_grange_lady_leopards_volleyball_sealy_lady_tigers.jpg
END:VEVENT
BEGIN:VEVENT
DTSTART;TZID=America/Chicago:20251021T190000
DTEND;TZID=America/Chicago:20251021T210000
DTSTAMP:20260424T045440
CREATED:20251021T141817Z
LAST-MODIFIED:20251021T142522Z
UID:10006992-1761073200-1761080400@www.ktim.org
SUMMARY:Schulenburg Lady Horns Volleyball vs Weimar Lady Wildcats (6:45 PM Oct 21 2025)
DESCRIPTION:More volleyball Action on K-TIMe\, as the 6-2 Schulenburg Lady Horns will travel down the road to take on the 6-2 Weimar Lady Cats! This game to be on www.ktim.org with Seth Eckhardt & Doug Elliott on the call and pregame beginning at 6:45pm! \nVIEW GAME LIVE!NOTE: To watch the live video for this game (or just listen to the audio)\, come back at the event start time and click the above button link (and then the WATCH icon next to your event) to live-stream the VIDEO portion of the game on your computer\, tablet\, or smartphone. \nOnce the game broadcast has been completed\, if you would like to VIEW (or simply listen to) a portion or all of the game again\, select the above link\, and this time\, select the ON DEMAND tab from the KTIM portal page\, and then click the WATCH icon for this game to view the video\, or just listen to the audio.
URL:https://www.ktim.org/event/schulenburg-lady-horns-volleyball-vs-weimar-lady-wildcats-645-pm-oct-21-2025/
ATTACH;FMTTYPE=image/jpeg:https://www.ktim.org/wp-content/uploads/2025/10/schulenburg_lady_horns_volleyball_weimar_lady_wildcats.jpg
END:VEVENT
END:VCALENDAR