BEGIN:VCALENDAR
VERSION:2.0
PRODID:-//K-TIMe | KTIM 89.1 FM Music Sports Talk Radio | La Grange, Texas - ECPv6.15.20//NONSGML v1.0//EN
CALSCALE:GREGORIAN
METHOD:PUBLISH
X-WR-CALNAME:K-TIMe | KTIM 89.1 FM Music Sports Talk Radio | La Grange, Texas
X-ORIGINAL-URL:https://www.ktim.org
X-WR-CALDESC:Events for K-TIMe | KTIM 89.1 FM Music Sports Talk Radio | La Grange, Texas
REFRESH-INTERVAL;VALUE=DURATION:PT1H
X-Robots-Tag:noindex
X-PUBLISHED-TTL:PT1H
BEGIN:VTIMEZONE
TZID:America/Chicago
BEGIN:DAYLIGHT
TZOFFSETFROM:-0600
TZOFFSETTO:-0500
TZNAME:CDT
DTSTART:20240310T080000
END:DAYLIGHT
BEGIN:STANDARD
TZOFFSETFROM:-0500
TZOFFSETTO:-0600
TZNAME:CST
DTSTART:20241103T070000
END:STANDARD
BEGIN:DAYLIGHT
TZOFFSETFROM:-0600
TZOFFSETTO:-0500
TZNAME:CDT
DTSTART:20250309T080000
END:DAYLIGHT
BEGIN:STANDARD
TZOFFSETFROM:-0500
TZOFFSETTO:-0600
TZNAME:CST
DTSTART:20251102T070000
END:STANDARD
BEGIN:DAYLIGHT
TZOFFSETFROM:-0600
TZOFFSETTO:-0500
TZNAME:CDT
DTSTART:20260308T080000
END:DAYLIGHT
BEGIN:STANDARD
TZOFFSETFROM:-0500
TZOFFSETTO:-0600
TZNAME:CST
DTSTART:20261101T070000
END:STANDARD
END:VTIMEZONE
BEGIN:VEVENT
DTSTART;TZID=America/Chicago:20251030T140000
DTEND;TZID=America/Chicago:20251030T180000
DTSTAMP:20260424T045327
CREATED:20250417T001943Z
LAST-MODIFIED:20250417T001943Z
UID:10006555-1761832800-1761847200@www.ktim.org
SUMMARY:The Eddie-O Show
DESCRIPTION:Hosted by Eddie Oppermann\nThursdays 2pm-6pm
URL:https://www.ktim.org/event/the-eddie-o-show/2025-10-30/
ATTACH;FMTTYPE=image/jpeg:https://www.ktim.org/wp-content/uploads/2025/04/eddie_o.jpg
END:VEVENT
BEGIN:VEVENT
DTSTART;TZID=America/Chicago:20251030T180000
DTEND;TZID=America/Chicago:20251030T200000
DTSTAMP:20260424T045327
CREATED:20250417T001109Z
LAST-MODIFIED:20250417T001109Z
UID:10005063-1761847200-1761854400@www.ktim.org
SUMMARY:Bugle Boy Mix
DESCRIPTION:Hosted by The Bugle Boy\nMonday-Saturday 6pm-8pm \nBugle Boy Mix is a mix of music by artists that have played The Bugle Boy in La Grange\, Texas. The Bugle Boy is a unique venue that features top national and international independent artists in the genres of Americana\, blues\, rock and folk. For more information and show schedules visit thebugleboy.org.
URL:https://www.ktim.org/event/bugle-boy-mix/2025-10-30/
ATTACH;FMTTYPE=image/jpeg:https://www.ktim.org/wp-content/uploads/2025/04/Bugle_Boy_KTIM_400x200.jpg
END:VEVENT
BEGIN:VEVENT
DTSTART;TZID=America/Chicago:20251030T183000
DTEND;TZID=America/Chicago:20251030T203000
DTSTAMP:20260424T045327
CREATED:20251030T222742Z
LAST-MODIFIED:20251030T222743Z
UID:10006998-1761849000-1761856200@www.ktim.org
SUMMARY:La Grange Lady Leopards Volleyball vs Freeman Lady Golden Eagles (6:15 PM Oct 30 2025)
DESCRIPTION:Volleyball Playoff Action is here! We kick it off on Thursday 10/30 with 4A Region III Freeman Golden Eagles of District 21 taking on The La Grange Lady Leps of District 22! The Golden Eagles come into this match-up with the overall record of 17-25 and district record of 11-3\, finishing 3rd in district 21 behind Sealy and Almeta Crawford. The Lady Leps’ overall record is 26-16 and district record is 7-3\, finishing 2nd in district 22 behind Bellville!\n—\nThis game will be livestreamed on www.NFHSnetwork.com and live radio broadcast like usual on KTIM 89.1FM! The Julie B Pregame Show is set for 6:15pm with first serve at 6:30pm and Lee Fritsch alongside Lyndsey Vasek will bring you all the action!
URL:https://www.ktim.org/event/la-grange-lady-leopards-volleyball-vs-freeman-lady-golden-eagles-615-pm-oct-30-2025/
ATTACH;FMTTYPE=image/jpeg:https://www.ktim.org/wp-content/uploads/2025/10/la_grange_lady_leopards_volleyball_freeman_lady_golden_eagles.jpg
END:VEVENT
BEGIN:VEVENT
DTSTART;TZID=America/Chicago:20251030T200000
DTEND;TZID=America/Chicago:20251030T220000
DTSTAMP:20260424T045327
CREATED:20250416T221058Z
LAST-MODIFIED:20250416T221137Z
UID:10002064-1761854400-1761861600@www.ktim.org
SUMMARY:Parnellahan's
DESCRIPTION:Hosted by Charles “The Rocking Rev” Parnell\nWednesdays 2pm-4pm\, Thursdays 8pm-10pm\, Sundays 3pm-5pm \nWelcome to Parnellahan’s. Charles Parnell\, aka the Rocking Rev\, is the host of Parnellahan’s. Vinyl Junkie. Record Hoarder. Music Collector. The Song Wrangler introduced him as\, “an audiophile and a musicologist\,” but that sounds too high-falutin! He’s just a lover of music. His love began with listening to a transistor radio under the covers at night. By “skip”\, he was able to pick up WLS – Chicago\, KOMA – Oklahoma City\, and KLIF – Dallas\, where he learned about The Rolling Stones\, the Beatles and the great sound of Motown. He learned about Hank Williams and George Jones by listening to radio with his father. He is an avid Texas Music and early Jesus Rock fan. Parnellahan’s is named in honor of Callahan’s Crosstime Saloon from Spider Robinson’s books\, a place where troubles shared are troubles halved. He hopes that the music he plays will lighten your load\, unburden your soul and make you dance.
URL:https://www.ktim.org/event/parnellahans-3/2025-10-30/
ATTACH;FMTTYPE=image/jpeg:https://www.ktim.org/wp-content/uploads/2025/03/therev_400x200.jpg
END:VEVENT
BEGIN:VEVENT
DTSTART;TZID=America/Chicago:20251030T200000
DTEND;TZID=America/Chicago:20251030T220000
DTSTAMP:20260424T045327
CREATED:20251030T233955Z
LAST-MODIFIED:20251106T141844Z
UID:10006999-1761854400-1761861600@www.ktim.org
SUMMARY:Schulenburg Lady Horns Volleyball vs Yorktown Lady Wildcats (7:45 PM Oct 30 2025)
DESCRIPTION:Volleyball Playoff Action is here! 2A Region IV District 28 vs District 27 this Thursday 10/30! The Lady Wildcats have an overall record of 12-21 and district record of 5-3\, finishing 3rd behind Falls City and Kenedy. The Lady Horns have an overall record of 31-14 and district record of 8-2\, finishing 1st in district!\n—\nThis game will be livestreamed on www.NFHSnetwork.com and live radio broadcast like usual on KTIM 89.1FM! The Pregame Show  is set for 7:45pm with first serve at 8:00pm and Seth Eckhardt alongside Doug Elliott will bring you all the action!
URL:https://www.ktim.org/event/schulenburg-lady-horns-volleyball-vs-yorktown-lady-wildcats-745-pm-oct-30-2025/
ATTACH;FMTTYPE=image/jpeg:https://www.ktim.org/wp-content/uploads/2025/10/schulenburg_lady_horns_volleyball_yorktown_lady_wildcats.jpg
END:VEVENT
END:VCALENDAR