BEGIN:VCALENDAR
VERSION:2.0
PRODID:-//K-TIMe | KTIM 89.1 FM Music Sports Talk Radio | La Grange, Texas - ECPv6.15.20//NONSGML v1.0//EN
CALSCALE:GREGORIAN
METHOD:PUBLISH
X-ORIGINAL-URL:https://www.ktim.org
X-WR-CALDESC:Events for K-TIMe | KTIM 89.1 FM Music Sports Talk Radio | La Grange, Texas
REFRESH-INTERVAL;VALUE=DURATION:PT1H
X-Robots-Tag:noindex
X-PUBLISHED-TTL:PT1H
BEGIN:VTIMEZONE
TZID:America/Chicago
BEGIN:DAYLIGHT
TZOFFSETFROM:-0600
TZOFFSETTO:-0500
TZNAME:CDT
DTSTART:20240310T080000
END:DAYLIGHT
BEGIN:STANDARD
TZOFFSETFROM:-0500
TZOFFSETTO:-0600
TZNAME:CST
DTSTART:20241103T070000
END:STANDARD
BEGIN:DAYLIGHT
TZOFFSETFROM:-0600
TZOFFSETTO:-0500
TZNAME:CDT
DTSTART:20250309T080000
END:DAYLIGHT
BEGIN:STANDARD
TZOFFSETFROM:-0500
TZOFFSETTO:-0600
TZNAME:CST
DTSTART:20251102T070000
END:STANDARD
BEGIN:DAYLIGHT
TZOFFSETFROM:-0600
TZOFFSETTO:-0500
TZNAME:CDT
DTSTART:20260308T080000
END:DAYLIGHT
BEGIN:STANDARD
TZOFFSETFROM:-0500
TZOFFSETTO:-0600
TZNAME:CST
DTSTART:20261101T070000
END:STANDARD
END:VTIMEZONE
BEGIN:VEVENT
DTSTART;TZID=America/Chicago:20251031T000000
DTEND;TZID=America/Chicago:20251031T010000
DTSTAMP:20260424T015759
CREATED:20250416T233519Z
LAST-MODIFIED:20250416T233519Z
UID:10003048-1761868800-1761872400@www.ktim.org
SUMMARY:The Rock and Roll Show
DESCRIPTION:Hosted by Doug Elliot\nWednesdays 5-6pm\, Fridays Midnight-1am\, Sundays 9pm-10pm \nThe Rock and Roll Show mixes nuggets from LPs with a healthy dose of B-sides. A little history and backstory shows up now and then in between the tunes. \nDoug Elliot\, aka “The Fayette County Sky Guy”\, grew up listening to 45s and LPs back in the 60s and has been a record collector and certified music nut ever since. He spends as much time outdoors as he can.
URL:https://www.ktim.org/event/the-rock-and-roll-show-3/2025-10-31/
ATTACH;FMTTYPE=image/jpeg:https://www.ktim.org/wp-content/uploads/2025/04/doug_400x200.jpg
END:VEVENT
BEGIN:VEVENT
DTSTART;TZID=America/Chicago:20251031T100000
DTEND;TZID=America/Chicago:20251031T120000
DTSTAMP:20260424T015759
CREATED:20250416T235730Z
LAST-MODIFIED:20250416T235730Z
UID:10004257-1761904800-1761912000@www.ktim.org
SUMMARY:Across the Board with Becky
DESCRIPTION:
URL:https://www.ktim.org/event/across-the-board-with-becky-2/2025-10-31/
END:VEVENT
BEGIN:VEVENT
DTSTART;TZID=America/Chicago:20251031T120000
DTEND;TZID=America/Chicago:20251031T130000
DTSTAMP:20260424T015759
CREATED:20250416T234837Z
LAST-MODIFIED:20250416T234837Z
UID:10003705-1761912000-1761915600@www.ktim.org
SUMMARY:The DougHouse
DESCRIPTION:Hosted by Doug Elliot\nMondays 5pm-6pm\, Fridays Noon-1pm \nThe DougHouse mixes nuggets from LPs with a healthy dose of B-sides. A little history and backstory shows up now and then in between the tunes. \nDoug Elliot\, aka “The Fayette County Sky Guy”\, grew up listening to 45s and LPs back in the 60s and has been a record collector and certified music nut ever since. He spends as much time outdoors as he can.
URL:https://www.ktim.org/event/the-doughouse-2/2025-10-31/
ATTACH;FMTTYPE=image/jpeg:https://www.ktim.org/wp-content/uploads/2025/04/doug_400x200.jpg
END:VEVENT
BEGIN:VEVENT
DTSTART;TZID=America/Chicago:20251031T180000
DTEND;TZID=America/Chicago:20251031T190000
DTSTAMP:20260424T015759
CREATED:20251031T212851Z
LAST-MODIFIED:20251031T213018Z
UID:10005064-1761933600-1761937200@www.ktim.org
SUMMARY:Bugle Boy Mix
DESCRIPTION:Hosted by The Bugle Boy\nMonday-Saturday 6pm-8pm \nBugle Boy Mix is a mix of music by artists that have played The Bugle Boy in La Grange\, Texas. The Bugle Boy is a unique venue that features top national and international independent artists in the genres of Americana\, blues\, rock and folk. For more information and show schedules visit thebugleboy.org.
URL:https://www.ktim.org/event/bugle-boy-mix-19/
ATTACH;FMTTYPE=image/jpeg:https://www.ktim.org/wp-content/uploads/2025/04/Bugle_Boy_KTIM_400x200.jpg
END:VEVENT
BEGIN:VEVENT
DTSTART;TZID=America/Chicago:20251031T190000
DTEND;TZID=America/Chicago:20251031T223000
DTSTAMP:20260424T015759
CREATED:20251031T213854Z
LAST-MODIFIED:20251107T032835Z
UID:10007006-1761937200-1761949800@www.ktim.org
SUMMARY:Giddings Buffaloes Football vs La Grange Leopards (7:00 PM Oct 31 2025)
DESCRIPTION:Spooky Friday Night Lights on K-TIMe! District play is getting closer and closer to ending and playoff implications are on the line.\nThis rivalry has been around for a LONG time! This is meeting 101 for these two teams on the football field. The La Grange Leps look to improve on a 1-2 district record against longtime rivals\, The Giddings Buffaloes who hold a 0-3 record this season so far. \nAlso stay tuned to The Beyond Bronze Halftime Show and catch The Mighty Leopard Marching Band as this is their final full performance before they head to the State Marching Competition at the Alamodome next week Wednesday! \nThe Oviedo Dealerships Pregame Show at 7:00pm with Eddie Oppermann\, Lee Fritsch and Joey Smidovec and kickoff at 7:30pm! Right here on KTIM 89.1 FM and live streaming video at www.ktim.org! \n4A-2 Region III District 11 Football\n1. Bellville 3-0\n2. Sealy 2-1\n3. Madisonville 2-1\n4. La Grange 1-2\n5. Caldwell 1-2\n6. Giddings 0-3 \nVIEW GAME LIVE!NOTE: To watch the live video for this game (or just listen to the audio)\, come back at the event start time and click the above button link (and then the WATCH icon next to your event) to live-stream the VIDEO portion of the game on your computer\, tablet\, or smartphone. \nOnce the game broadcast has been completed\, if you would like to VIEW (or simply listen to) a portion or all of the game again\, select the above link\, and this time\, select the ON DEMAND tab from the KTIM portal page\, and then click the WATCH icon for this game to view the video\, or just listen to the audio.
URL:https://www.ktim.org/event/giddings-buffaloes-football-vs-la-grange-leopards-700-pm-oct-31-2025/
ATTACH;FMTTYPE=image/jpeg:https://www.ktim.org/wp-content/uploads/2025/10/giddings_buffaloes_football_la_grange_leopards.jpg
END:VEVENT
BEGIN:VEVENT
DTSTART;TZID=America/Chicago:20251031T190000
DTEND;TZID=America/Chicago:20251031T223000
DTSTAMP:20260424T015759
CREATED:20251031T221810Z
LAST-MODIFIED:20251031T221811Z
UID:10007007-1761937200-1761949800@www.ktim.org
SUMMARY:Schulenburg Shorthorns Football vs Danbury Panthers (7:00 PM Oct 31 2025)
DESCRIPTION:Also on this Spooky Friday Night Lights on K-TIMe\, the Schulenburg Shorthorns (2-2) will travel to take on The Danbury Panthers (0-4). The Horns are looking for a W tonight to improve their district record and keep in contention for a playoff spot! \nThe Chuck Brown Ford Pregame Show with Mike and Montana Olle to take place at 7:00pm with kickoff at 7:30pm! All the action right here at www.ktim.org! \n2A-1 Region IV District 15 Football\n1. Ganado 4-0\n2. Weimar 3-1\n3. Kenedy 3-2\n4. Flatonia 2-2\n5. Schulenburg 2-2\n6. Bloomington 1-4\n7. Danbury 0-4 \nVIEW GAME LIVE!NOTE: To watch the live video for this game (or just listen to the audio)\, come back at the event start time and click the above button link (and then the WATCH icon next to your event) to live-stream the VIDEO portion of the game on your computer\, tablet\, or smartphone. \nOnce the game broadcast has been completed\, if you would like to VIEW (or simply listen to) a portion or all of the game again\, select the above link\, and this time\, select the ON DEMAND tab from the KTIM portal page\, and then click the WATCH icon for this game to view the video\, or just listen to the audio.
URL:https://www.ktim.org/event/schulenburg-shorthorns-football-vs-danbury-panthers-700-pm-oct-31-2025/
ATTACH;FMTTYPE=image/jpeg:https://www.ktim.org/wp-content/uploads/2025/10/schulenburg_shorthorns_football_danbury_panthers.jpg
END:VEVENT
END:VCALENDAR