BEGIN:VCALENDAR
VERSION:2.0
PRODID:-//K-TIMe | KTIM 89.1 FM Music Sports Talk Radio | La Grange, Texas - ECPv6.15.20//NONSGML v1.0//EN
CALSCALE:GREGORIAN
METHOD:PUBLISH
X-ORIGINAL-URL:https://www.ktim.org
X-WR-CALDESC:Events for K-TIMe | KTIM 89.1 FM Music Sports Talk Radio | La Grange, Texas
REFRESH-INTERVAL;VALUE=DURATION:PT1H
X-Robots-Tag:noindex
X-PUBLISHED-TTL:PT1H
BEGIN:VTIMEZONE
TZID:America/Chicago
BEGIN:DAYLIGHT
TZOFFSETFROM:-0600
TZOFFSETTO:-0500
TZNAME:CDT
DTSTART:20240310T080000
END:DAYLIGHT
BEGIN:STANDARD
TZOFFSETFROM:-0500
TZOFFSETTO:-0600
TZNAME:CST
DTSTART:20241103T070000
END:STANDARD
BEGIN:DAYLIGHT
TZOFFSETFROM:-0600
TZOFFSETTO:-0500
TZNAME:CDT
DTSTART:20250309T080000
END:DAYLIGHT
BEGIN:STANDARD
TZOFFSETFROM:-0500
TZOFFSETTO:-0600
TZNAME:CST
DTSTART:20251102T070000
END:STANDARD
BEGIN:DAYLIGHT
TZOFFSETFROM:-0600
TZOFFSETTO:-0500
TZNAME:CDT
DTSTART:20260308T080000
END:DAYLIGHT
BEGIN:STANDARD
TZOFFSETFROM:-0500
TZOFFSETTO:-0600
TZNAME:CST
DTSTART:20261101T070000
END:STANDARD
END:VTIMEZONE
BEGIN:VEVENT
DTSTART;TZID=America/Chicago:20251106T140000
DTEND;TZID=America/Chicago:20251106T180000
DTSTAMP:20260424T015809
CREATED:20250417T001943Z
LAST-MODIFIED:20250417T001943Z
UID:10006556-1762437600-1762452000@www.ktim.org
SUMMARY:The Eddie-O Show
DESCRIPTION:Hosted by Eddie Oppermann\nThursdays 2pm-6pm
URL:https://www.ktim.org/event/the-eddie-o-show/2025-11-06/
ATTACH;FMTTYPE=image/jpeg:https://www.ktim.org/wp-content/uploads/2025/04/eddie_o.jpg
END:VEVENT
BEGIN:VEVENT
DTSTART;TZID=America/Chicago:20251106T180000
DTEND;TZID=America/Chicago:20251106T183000
DTSTAMP:20260424T015809
CREATED:20251106T142258Z
LAST-MODIFIED:20251106T142322Z
UID:10005069-1762452000-1762453800@www.ktim.org
SUMMARY:Bugle Boy Mix
DESCRIPTION:Hosted by The Bugle Boy\nMonday-Saturday 6pm-8pm \nBugle Boy Mix is a mix of music by artists that have played The Bugle Boy in La Grange\, Texas. The Bugle Boy is a unique venue that features top national and international independent artists in the genres of Americana\, blues\, rock and folk. For more information and show schedules visit thebugleboy.org.
URL:https://www.ktim.org/event/bugle-boy-mix-20/
ATTACH;FMTTYPE=image/jpeg:https://www.ktim.org/wp-content/uploads/2025/04/Bugle_Boy_KTIM_400x200.jpg
END:VEVENT
BEGIN:VEVENT
DTSTART;TZID=America/Chicago:20251106T183000
DTEND;TZID=America/Chicago:20251106T203000
DTSTAMP:20260424T015809
CREATED:20251106T141819Z
LAST-MODIFIED:20251106T141850Z
UID:10007008-1762453800-1762461000@www.ktim.org
SUMMARY:Schulenburg Lady Horns Volleyball vs Johnson City Lady Eagles (6:30 PM Nov 6 2025)
DESCRIPTION:Playoff Volleyball action on K-TIMe! A rematch for these two teams! Last season The Schulenburg Lady Horn volleyball season came to an end in the Regional Quarterfinals 3 sets to 0 against The Lady Eagles of Johnson City. The Lady Horns will look to get some payback and keep their Volleyball season moving forward! Schulenburg is fresh off of a 3-0 win over Snook and Johnson City is coming off of a 3-0 win against Skidmore-Tynan! \nAll the action for you right here on KTIM 89.1FM with pregame at 6:30pm\, Seth Eckhardt is your host! Live streaming video will be on the nfhsnetwork.com – remember any other link is a SCAM!
URL:https://www.ktim.org/event/schulenburg-lady-horns-volleyball-vs-johnson-city-lady-eagles-630-pm-nov-6-2025/
ATTACH;FMTTYPE=image/jpeg:https://www.ktim.org/wp-content/uploads/2025/11/schulenburg_lady_horns_volleyball_johnson_city_lady_eagles.jpg
END:VEVENT
BEGIN:VEVENT
DTSTART;TZID=America/Chicago:20251106T203000
DTEND;TZID=America/Chicago:20251106T220000
DTSTAMP:20260424T015809
CREATED:20251106T142221Z
LAST-MODIFIED:20251106T142238Z
UID:10002065-1762461000-1762466400@www.ktim.org
SUMMARY:Parnellahan's
DESCRIPTION:Hosted by Charles “The Rocking Rev” Parnell\nWednesdays 2pm-4pm\, Thursdays 8pm-10pm\, Sundays 3pm-5pm \nWelcome to Parnellahan’s. Charles Parnell\, aka the Rocking Rev\, is the host of Parnellahan’s. Vinyl Junkie. Record Hoarder. Music Collector. The Song Wrangler introduced him as\, “an audiophile and a musicologist\,” but that sounds too high-falutin! He’s just a lover of music. His love began with listening to a transistor radio under the covers at night. By “skip”\, he was able to pick up WLS – Chicago\, KOMA – Oklahoma City\, and KLIF – Dallas\, where he learned about The Rolling Stones\, the Beatles and the great sound of Motown. He learned about Hank Williams and George Jones by listening to radio with his father. He is an avid Texas Music and early Jesus Rock fan. Parnellahan’s is named in honor of Callahan’s Crosstime Saloon from Spider Robinson’s books\, a place where troubles shared are troubles halved. He hopes that the music he plays will lighten your load\, unburden your soul and make you dance.
URL:https://www.ktim.org/event/parnellahans-5/
ATTACH;FMTTYPE=image/jpeg:https://www.ktim.org/wp-content/uploads/2025/03/therev_400x200.jpg
END:VEVENT
END:VCALENDAR