BEGIN:VCALENDAR
VERSION:2.0
PRODID:-//K-TIMe | KTIM 89.1 FM Music Sports Talk Radio | La Grange, Texas - ECPv6.15.20//NONSGML v1.0//EN
CALSCALE:GREGORIAN
METHOD:PUBLISH
X-WR-CALNAME:K-TIMe | KTIM 89.1 FM Music Sports Talk Radio | La Grange, Texas
X-ORIGINAL-URL:https://www.ktim.org
X-WR-CALDESC:Events for K-TIMe | KTIM 89.1 FM Music Sports Talk Radio | La Grange, Texas
REFRESH-INTERVAL;VALUE=DURATION:PT1H
X-Robots-Tag:noindex
X-PUBLISHED-TTL:PT1H
BEGIN:VTIMEZONE
TZID:America/Chicago
BEGIN:DAYLIGHT
TZOFFSETFROM:-0600
TZOFFSETTO:-0500
TZNAME:CDT
DTSTART:20240310T080000
END:DAYLIGHT
BEGIN:STANDARD
TZOFFSETFROM:-0500
TZOFFSETTO:-0600
TZNAME:CST
DTSTART:20241103T070000
END:STANDARD
BEGIN:DAYLIGHT
TZOFFSETFROM:-0600
TZOFFSETTO:-0500
TZNAME:CDT
DTSTART:20250309T080000
END:DAYLIGHT
BEGIN:STANDARD
TZOFFSETFROM:-0500
TZOFFSETTO:-0600
TZNAME:CST
DTSTART:20251102T070000
END:STANDARD
BEGIN:DAYLIGHT
TZOFFSETFROM:-0600
TZOFFSETTO:-0500
TZNAME:CDT
DTSTART:20260308T080000
END:DAYLIGHT
BEGIN:STANDARD
TZOFFSETFROM:-0500
TZOFFSETTO:-0600
TZNAME:CST
DTSTART:20261101T070000
END:STANDARD
END:VTIMEZONE
BEGIN:VEVENT
DTSTART;TZID=America/Chicago:20251113T140000
DTEND;TZID=America/Chicago:20251113T180000
DTSTAMP:20260424T001437
CREATED:20250417T001943Z
LAST-MODIFIED:20250417T001943Z
UID:10006557-1763042400-1763056800@www.ktim.org
SUMMARY:The Eddie-O Show
DESCRIPTION:Hosted by Eddie Oppermann\nThursdays 2pm-6pm
URL:https://www.ktim.org/event/the-eddie-o-show/2025-11-13/
ATTACH;FMTTYPE=image/jpeg:https://www.ktim.org/wp-content/uploads/2025/04/eddie_o.jpg
END:VEVENT
BEGIN:VEVENT
DTSTART;TZID=America/Chicago:20251113T180000
DTEND;TZID=America/Chicago:20251113T190000
DTSTAMP:20260424T001437
CREATED:20251110T200618Z
LAST-MODIFIED:20251110T200637Z
UID:10005075-1763056800-1763060400@www.ktim.org
SUMMARY:Bugle Boy Mix
DESCRIPTION:Hosted by The Bugle Boy\nMonday-Saturday 6pm-8pm \nBugle Boy Mix is a mix of music by artists that have played The Bugle Boy in La Grange\, Texas. The Bugle Boy is a unique venue that features top national and international independent artists in the genres of Americana\, blues\, rock and folk. For more information and show schedules visit thebugleboy.org.
URL:https://www.ktim.org/event/bugle-boy-mix-25/
ATTACH;FMTTYPE=image/jpeg:https://www.ktim.org/wp-content/uploads/2025/04/Bugle_Boy_KTIM_400x200.jpg
END:VEVENT
BEGIN:VEVENT
DTSTART;TZID=America/Chicago:20251113T190000
DTEND;TZID=America/Chicago:20251113T223000
DTSTAMP:20260424T001437
CREATED:20251110T200452Z
LAST-MODIFIED:20251110T200452Z
UID:10007021-1763060400-1763073000@www.ktim.org
SUMMARY:Freer Buckaroos Football vs Schulenburg Shorthorns (7:00 PM Nov 13 2025)
DESCRIPTION:Schulenburg Football First Round Playoff Information! \nOpponent- Freer\nDate- Thursday Nov 13\nTime- 7:30PM\nLocation- Poth HS\nSHS is the home team. \nK-TIMe will be on hand to bring you all the action! Radio at 89.1FM as well as the NFHS stream brought to you by an excellent KTIM crew!
URL:https://www.ktim.org/event/freer-buckaroos-football-vs-schulenburg-shorthorns-700-pm-nov-13-2025/
ATTACH;FMTTYPE=image/jpeg:https://www.ktim.org/wp-content/uploads/2025/11/freer_buckaroos_football_schulenburg_shorthorns.jpg
END:VEVENT
END:VCALENDAR