BEGIN:VCALENDAR
VERSION:2.0
PRODID:-//K-TIMe | KTIM 89.1 FM Music Sports Talk Radio | La Grange, Texas - ECPv6.15.20//NONSGML v1.0//EN
CALSCALE:GREGORIAN
METHOD:PUBLISH
X-WR-CALNAME:K-TIMe | KTIM 89.1 FM Music Sports Talk Radio | La Grange, Texas
X-ORIGINAL-URL:https://www.ktim.org
X-WR-CALDESC:Events for K-TIMe | KTIM 89.1 FM Music Sports Talk Radio | La Grange, Texas
REFRESH-INTERVAL;VALUE=DURATION:PT1H
X-Robots-Tag:noindex
X-PUBLISHED-TTL:PT1H
BEGIN:VTIMEZONE
TZID:America/Chicago
BEGIN:DAYLIGHT
TZOFFSETFROM:-0600
TZOFFSETTO:-0500
TZNAME:CDT
DTSTART:20250309T080000
END:DAYLIGHT
BEGIN:STANDARD
TZOFFSETFROM:-0500
TZOFFSETTO:-0600
TZNAME:CST
DTSTART:20251102T070000
END:STANDARD
BEGIN:DAYLIGHT
TZOFFSETFROM:-0600
TZOFFSETTO:-0500
TZNAME:CDT
DTSTART:20260308T080000
END:DAYLIGHT
BEGIN:STANDARD
TZOFFSETFROM:-0500
TZOFFSETTO:-0600
TZNAME:CST
DTSTART:20261101T070000
END:STANDARD
BEGIN:DAYLIGHT
TZOFFSETFROM:-0600
TZOFFSETTO:-0500
TZNAME:CDT
DTSTART:20270314T080000
END:DAYLIGHT
BEGIN:STANDARD
TZOFFSETFROM:-0500
TZOFFSETTO:-0600
TZNAME:CST
DTSTART:20271107T070000
END:STANDARD
END:VTIMEZONE
BEGIN:VEVENT
DTSTART;TZID=America/Chicago:20260703T000000
DTEND;TZID=America/Chicago:20260703T010000
DTSTAMP:20260423T141248
CREATED:20250416T233519Z
LAST-MODIFIED:20250416T233519Z
UID:10003083-1783036800-1783040400@www.ktim.org
SUMMARY:The Rock and Roll Show
DESCRIPTION:Hosted by Doug Elliot\nWednesdays 5-6pm\, Fridays Midnight-1am\, Sundays 9pm-10pm \nThe Rock and Roll Show mixes nuggets from LPs with a healthy dose of B-sides. A little history and backstory shows up now and then in between the tunes. \nDoug Elliot\, aka “The Fayette County Sky Guy”\, grew up listening to 45s and LPs back in the 60s and has been a record collector and certified music nut ever since. He spends as much time outdoors as he can.
URL:https://www.ktim.org/event/the-rock-and-roll-show-3/2026-07-03/
ATTACH;FMTTYPE=image/jpeg:https://www.ktim.org/wp-content/uploads/2025/04/doug_400x200.jpg
END:VEVENT
BEGIN:VEVENT
DTSTART;TZID=America/Chicago:20260703T100000
DTEND;TZID=America/Chicago:20260703T120000
DTSTAMP:20260423T141248
CREATED:20250416T235730Z
LAST-MODIFIED:20250416T235730Z
UID:10004292-1783072800-1783080000@www.ktim.org
SUMMARY:Across the Board with Becky
DESCRIPTION:
URL:https://www.ktim.org/event/across-the-board-with-becky-2/2026-07-03/
END:VEVENT
BEGIN:VEVENT
DTSTART;TZID=America/Chicago:20260703T120000
DTEND;TZID=America/Chicago:20260703T130000
DTSTAMP:20260423T141248
CREATED:20250416T234837Z
LAST-MODIFIED:20250416T234837Z
UID:10003740-1783080000-1783083600@www.ktim.org
SUMMARY:The DougHouse
DESCRIPTION:Hosted by Doug Elliot\nMondays 5pm-6pm\, Fridays Noon-1pm \nThe DougHouse mixes nuggets from LPs with a healthy dose of B-sides. A little history and backstory shows up now and then in between the tunes. \nDoug Elliot\, aka “The Fayette County Sky Guy”\, grew up listening to 45s and LPs back in the 60s and has been a record collector and certified music nut ever since. He spends as much time outdoors as he can.
URL:https://www.ktim.org/event/the-doughouse-2/2026-07-03/
ATTACH;FMTTYPE=image/jpeg:https://www.ktim.org/wp-content/uploads/2025/04/doug_400x200.jpg
END:VEVENT
BEGIN:VEVENT
DTSTART;TZID=America/Chicago:20260703T180000
DTEND;TZID=America/Chicago:20260703T200000
DTSTAMP:20260423T141248
CREATED:20250417T001109Z
LAST-MODIFIED:20250417T001109Z
UID:10005274-1783101600-1783108800@www.ktim.org
SUMMARY:Bugle Boy Mix
DESCRIPTION:Hosted by The Bugle Boy\nMonday-Saturday 6pm-8pm \nBugle Boy Mix is a mix of music by artists that have played The Bugle Boy in La Grange\, Texas. The Bugle Boy is a unique venue that features top national and international independent artists in the genres of Americana\, blues\, rock and folk. For more information and show schedules visit thebugleboy.org.
URL:https://www.ktim.org/event/bugle-boy-mix/2026-07-03/
ATTACH;FMTTYPE=image/jpeg:https://www.ktim.org/wp-content/uploads/2025/04/Bugle_Boy_KTIM_400x200.jpg
END:VEVENT
END:VCALENDAR