BEGIN:VCALENDAR
VERSION:2.0
PRODID:-//K-TIMe | KTIM 89.1 FM Music Sports Talk Radio | La Grange, Texas - ECPv6.15.20//NONSGML v1.0//EN
CALSCALE:GREGORIAN
METHOD:PUBLISH
X-ORIGINAL-URL:https://www.ktim.org
X-WR-CALDESC:Events for K-TIMe | KTIM 89.1 FM Music Sports Talk Radio | La Grange, Texas
REFRESH-INTERVAL;VALUE=DURATION:PT1H
X-Robots-Tag:noindex
X-PUBLISHED-TTL:PT1H
BEGIN:VTIMEZONE
TZID:America/Chicago
BEGIN:DAYLIGHT
TZOFFSETFROM:-0600
TZOFFSETTO:-0500
TZNAME:CDT
DTSTART:20250309T080000
END:DAYLIGHT
BEGIN:STANDARD
TZOFFSETFROM:-0500
TZOFFSETTO:-0600
TZNAME:CST
DTSTART:20251102T070000
END:STANDARD
BEGIN:DAYLIGHT
TZOFFSETFROM:-0600
TZOFFSETTO:-0500
TZNAME:CDT
DTSTART:20260308T080000
END:DAYLIGHT
BEGIN:STANDARD
TZOFFSETFROM:-0500
TZOFFSETTO:-0600
TZNAME:CST
DTSTART:20261101T070000
END:STANDARD
BEGIN:DAYLIGHT
TZOFFSETFROM:-0600
TZOFFSETTO:-0500
TZNAME:CDT
DTSTART:20270314T080000
END:DAYLIGHT
BEGIN:STANDARD
TZOFFSETFROM:-0500
TZOFFSETTO:-0600
TZNAME:CST
DTSTART:20271107T070000
END:STANDARD
END:VTIMEZONE
BEGIN:VEVENT
DTSTART;TZID=America/Chicago:20260708T140000
DTEND;TZID=America/Chicago:20260708T160000
DTSTAMP:20260423T174010
CREATED:20250416T220030Z
LAST-MODIFIED:20250416T220030Z
UID:10001772-1783519200-1783526400@www.ktim.org
SUMMARY:Parnellahan's
DESCRIPTION:Hosted by Charles “The Rocking Rev” Parnell\nWednesdays 2pm-4pm\, Thursdays 8pm-10pm\, Sundays 3pm-5pm \nWelcome to Parnellahan’s. Charles Parnell\, aka the Rocking Rev\, is the host of Parnellahan’s. Vinyl Junkie. Record Hoarder. Music Collector. The Song Wrangler introduced him as\, “an audiophile and a musicologist\,” but that sounds too high-falutin! He’s just a lover of music. His love began with listening to a transistor radio under the covers at night. By “skip”\, he was able to pick up WLS – Chicago\, KOMA – Oklahoma City\, and KLIF – Dallas\, where he learned about The Rolling Stones\, the Beatles and the great sound of Motown. He learned about Hank Williams and George Jones by listening to radio with his father. He is an avid Texas Music and early Jesus Rock fan. Parnellahan’s is named in honor of Callahan’s Crosstime Saloon from Spider Robinson’s books\, a place where troubles shared are troubles halved. He hopes that the music he plays will lighten your load\, unburden your soul and make you dance.
URL:https://www.ktim.org/event/parnellahans-2/2026-07-08/
ATTACH;FMTTYPE=image/jpeg:https://www.ktim.org/wp-content/uploads/2025/03/therev_400x200.jpg
END:VEVENT
BEGIN:VEVENT
DTSTART;TZID=America/Chicago:20260708T170000
DTEND;TZID=America/Chicago:20260708T180000
DTSTAMP:20260423T174010
CREATED:20250416T232640Z
LAST-MODIFIED:20250416T232640Z
UID:10002756-1783530000-1783533600@www.ktim.org
SUMMARY:The Rock and Roll Show
DESCRIPTION:Hosted by Doug Elliot\nWednesdays 5-6pm\, Fridays Midnight-1am\, Sundays 9pm-10pm \nThe Rock and Roll Show mixes nuggets from LPs with a healthy dose of B-sides. A little history and backstory shows up now and then in between the tunes. \nDoug Elliot\, aka “The Fayette County Sky Guy”\, grew up listening to 45s and LPs back in the 60s and has been a record collector and certified music nut ever since. He spends as much time outdoors as he can.
URL:https://www.ktim.org/event/the-rock-and-roll-show-2/2026-07-08/
ATTACH;FMTTYPE=image/jpeg:https://www.ktim.org/wp-content/uploads/2025/04/doug_400x200.jpg
END:VEVENT
BEGIN:VEVENT
DTSTART;TZID=America/Chicago:20260708T180000
DTEND;TZID=America/Chicago:20260708T200000
DTSTAMP:20260423T174010
CREATED:20250417T001109Z
LAST-MODIFIED:20250417T001109Z
UID:10005278-1783533600-1783540800@www.ktim.org
SUMMARY:Bugle Boy Mix
DESCRIPTION:Hosted by The Bugle Boy\nMonday-Saturday 6pm-8pm \nBugle Boy Mix is a mix of music by artists that have played The Bugle Boy in La Grange\, Texas. The Bugle Boy is a unique venue that features top national and international independent artists in the genres of Americana\, blues\, rock and folk. For more information and show schedules visit thebugleboy.org.
URL:https://www.ktim.org/event/bugle-boy-mix/2026-07-08/
ATTACH;FMTTYPE=image/jpeg:https://www.ktim.org/wp-content/uploads/2025/04/Bugle_Boy_KTIM_400x200.jpg
END:VEVENT
END:VCALENDAR