BEGIN:VCALENDAR
VERSION:2.0
PRODID:-//K-TIMe | KTIM 89.1 FM Music Sports Talk Radio | La Grange, Texas - ECPv6.15.20//NONSGML v1.0//EN
CALSCALE:GREGORIAN
METHOD:PUBLISH
X-ORIGINAL-URL:https://www.ktim.org
X-WR-CALDESC:Events for K-TIMe | KTIM 89.1 FM Music Sports Talk Radio | La Grange, Texas
REFRESH-INTERVAL;VALUE=DURATION:PT1H
X-Robots-Tag:noindex
X-PUBLISHED-TTL:PT1H
BEGIN:VTIMEZONE
TZID:America/Chicago
BEGIN:DAYLIGHT
TZOFFSETFROM:-0600
TZOFFSETTO:-0500
TZNAME:CDT
DTSTART:20250309T080000
END:DAYLIGHT
BEGIN:STANDARD
TZOFFSETFROM:-0500
TZOFFSETTO:-0600
TZNAME:CST
DTSTART:20251102T070000
END:STANDARD
BEGIN:DAYLIGHT
TZOFFSETFROM:-0600
TZOFFSETTO:-0500
TZNAME:CDT
DTSTART:20260308T080000
END:DAYLIGHT
BEGIN:STANDARD
TZOFFSETFROM:-0500
TZOFFSETTO:-0600
TZNAME:CST
DTSTART:20261101T070000
END:STANDARD
BEGIN:DAYLIGHT
TZOFFSETFROM:-0600
TZOFFSETTO:-0500
TZNAME:CDT
DTSTART:20270314T080000
END:DAYLIGHT
BEGIN:STANDARD
TZOFFSETFROM:-0500
TZOFFSETTO:-0600
TZNAME:CST
DTSTART:20271107T070000
END:STANDARD
END:VTIMEZONE
BEGIN:VEVENT
DTSTART;TZID=America/Chicago:20260528T140000
DTEND;TZID=America/Chicago:20260528T180000
DTSTAMP:20260423T141811
CREATED:20250417T001943Z
LAST-MODIFIED:20250417T001943Z
UID:10006585-1779976800-1779991200@www.ktim.org
SUMMARY:The Eddie-O Show
DESCRIPTION:Hosted by Eddie Oppermann\nThursdays 2pm-6pm
URL:https://www.ktim.org/event/the-eddie-o-show/2026-05-28/
ATTACH;FMTTYPE=image/jpeg:https://www.ktim.org/wp-content/uploads/2025/04/eddie_o.jpg
END:VEVENT
BEGIN:VEVENT
DTSTART;TZID=America/Chicago:20260528T180000
DTEND;TZID=America/Chicago:20260528T200000
DTSTAMP:20260423T141811
CREATED:20250417T001109Z
LAST-MODIFIED:20250417T001109Z
UID:10005243-1779991200-1779998400@www.ktim.org
SUMMARY:Bugle Boy Mix
DESCRIPTION:Hosted by The Bugle Boy\nMonday-Saturday 6pm-8pm \nBugle Boy Mix is a mix of music by artists that have played The Bugle Boy in La Grange\, Texas. The Bugle Boy is a unique venue that features top national and international independent artists in the genres of Americana\, blues\, rock and folk. For more information and show schedules visit thebugleboy.org.
URL:https://www.ktim.org/event/bugle-boy-mix/2026-05-28/
ATTACH;FMTTYPE=image/jpeg:https://www.ktim.org/wp-content/uploads/2025/04/Bugle_Boy_KTIM_400x200.jpg
END:VEVENT
BEGIN:VEVENT
DTSTART;TZID=America/Chicago:20260528T200000
DTEND;TZID=America/Chicago:20260528T220000
DTSTAMP:20260423T141811
CREATED:20250416T221058Z
LAST-MODIFIED:20250416T221137Z
UID:10002094-1779998400-1780005600@www.ktim.org
SUMMARY:Parnellahan's
DESCRIPTION:Hosted by Charles “The Rocking Rev” Parnell\nWednesdays 2pm-4pm\, Thursdays 8pm-10pm\, Sundays 3pm-5pm \nWelcome to Parnellahan’s. Charles Parnell\, aka the Rocking Rev\, is the host of Parnellahan’s. Vinyl Junkie. Record Hoarder. Music Collector. The Song Wrangler introduced him as\, “an audiophile and a musicologist\,” but that sounds too high-falutin! He’s just a lover of music. His love began with listening to a transistor radio under the covers at night. By “skip”\, he was able to pick up WLS – Chicago\, KOMA – Oklahoma City\, and KLIF – Dallas\, where he learned about The Rolling Stones\, the Beatles and the great sound of Motown. He learned about Hank Williams and George Jones by listening to radio with his father. He is an avid Texas Music and early Jesus Rock fan. Parnellahan’s is named in honor of Callahan’s Crosstime Saloon from Spider Robinson’s books\, a place where troubles shared are troubles halved. He hopes that the music he plays will lighten your load\, unburden your soul and make you dance.
URL:https://www.ktim.org/event/parnellahans-3/2026-05-28/
ATTACH;FMTTYPE=image/jpeg:https://www.ktim.org/wp-content/uploads/2025/03/therev_400x200.jpg
END:VEVENT
BEGIN:VEVENT
DTSTART;TZID=America/Chicago:20260529T000000
DTEND;TZID=America/Chicago:20260529T010000
DTSTAMP:20260423T141811
CREATED:20250416T233519Z
LAST-MODIFIED:20250416T233519Z
UID:10003078-1780012800-1780016400@www.ktim.org
SUMMARY:The Rock and Roll Show
DESCRIPTION:Hosted by Doug Elliot\nWednesdays 5-6pm\, Fridays Midnight-1am\, Sundays 9pm-10pm \nThe Rock and Roll Show mixes nuggets from LPs with a healthy dose of B-sides. A little history and backstory shows up now and then in between the tunes. \nDoug Elliot\, aka “The Fayette County Sky Guy”\, grew up listening to 45s and LPs back in the 60s and has been a record collector and certified music nut ever since. He spends as much time outdoors as he can.
URL:https://www.ktim.org/event/the-rock-and-roll-show-3/2026-05-29/
ATTACH;FMTTYPE=image/jpeg:https://www.ktim.org/wp-content/uploads/2025/04/doug_400x200.jpg
END:VEVENT
BEGIN:VEVENT
DTSTART;TZID=America/Chicago:20260529T100000
DTEND;TZID=America/Chicago:20260529T120000
DTSTAMP:20260423T141811
CREATED:20250416T235730Z
LAST-MODIFIED:20250416T235730Z
UID:10004287-1780048800-1780056000@www.ktim.org
SUMMARY:Across the Board with Becky
DESCRIPTION:
URL:https://www.ktim.org/event/across-the-board-with-becky-2/2026-05-29/
END:VEVENT
BEGIN:VEVENT
DTSTART;TZID=America/Chicago:20260529T120000
DTEND;TZID=America/Chicago:20260529T130000
DTSTAMP:20260423T141811
CREATED:20250416T234837Z
LAST-MODIFIED:20250416T234837Z
UID:10003735-1780056000-1780059600@www.ktim.org
SUMMARY:The DougHouse
DESCRIPTION:Hosted by Doug Elliot\nMondays 5pm-6pm\, Fridays Noon-1pm \nThe DougHouse mixes nuggets from LPs with a healthy dose of B-sides. A little history and backstory shows up now and then in between the tunes. \nDoug Elliot\, aka “The Fayette County Sky Guy”\, grew up listening to 45s and LPs back in the 60s and has been a record collector and certified music nut ever since. He spends as much time outdoors as he can.
URL:https://www.ktim.org/event/the-doughouse-2/2026-05-29/
ATTACH;FMTTYPE=image/jpeg:https://www.ktim.org/wp-content/uploads/2025/04/doug_400x200.jpg
END:VEVENT
BEGIN:VEVENT
DTSTART;TZID=America/Chicago:20260529T180000
DTEND;TZID=America/Chicago:20260529T200000
DTSTAMP:20260423T141811
CREATED:20250417T001109Z
LAST-MODIFIED:20250417T001109Z
UID:10005244-1780077600-1780084800@www.ktim.org
SUMMARY:Bugle Boy Mix
DESCRIPTION:Hosted by The Bugle Boy\nMonday-Saturday 6pm-8pm \nBugle Boy Mix is a mix of music by artists that have played The Bugle Boy in La Grange\, Texas. The Bugle Boy is a unique venue that features top national and international independent artists in the genres of Americana\, blues\, rock and folk. For more information and show schedules visit thebugleboy.org.
URL:https://www.ktim.org/event/bugle-boy-mix/2026-05-29/
ATTACH;FMTTYPE=image/jpeg:https://www.ktim.org/wp-content/uploads/2025/04/Bugle_Boy_KTIM_400x200.jpg
END:VEVENT
BEGIN:VEVENT
DTSTART;TZID=America/Chicago:20260530T180000
DTEND;TZID=America/Chicago:20260530T200000
DTSTAMP:20260423T141811
CREATED:20250417T001109Z
LAST-MODIFIED:20250417T001109Z
UID:10005245-1780164000-1780171200@www.ktim.org
SUMMARY:Bugle Boy Mix
DESCRIPTION:Hosted by The Bugle Boy\nMonday-Saturday 6pm-8pm \nBugle Boy Mix is a mix of music by artists that have played The Bugle Boy in La Grange\, Texas. The Bugle Boy is a unique venue that features top national and international independent artists in the genres of Americana\, blues\, rock and folk. For more information and show schedules visit thebugleboy.org.
URL:https://www.ktim.org/event/bugle-boy-mix/2026-05-30/
ATTACH;FMTTYPE=image/jpeg:https://www.ktim.org/wp-content/uploads/2025/04/Bugle_Boy_KTIM_400x200.jpg
END:VEVENT
BEGIN:VEVENT
DTSTART;TZID=America/Chicago:20260531T100000
DTEND;TZID=America/Chicago:20260531T120000
DTSTAMP:20260423T141812
CREATED:20250416T210412Z
LAST-MODIFIED:20250416T210412Z
UID:10000579-1780221600-1780228800@www.ktim.org
SUMMARY:Folk Tapestry
DESCRIPTION:Hosted by Joe Angel\nMondays\, Sundays 10am-Noon \nFolk Tapestry weaves together the threads that form roots music and includes an eclectic mix of traditional and contemporary folk\, singer/songwriter\, country\, cowboy\, western swing\, bluegrass\, rockabilly\, blues\, Cajun/Zydeco\, Celtic\, and more.
URL:https://www.ktim.org/event/folk-tapestry/2026-05-31/
ATTACH;FMTTYPE=image/jpeg:https://www.ktim.org/wp-content/uploads/2025/03/Joe-Angel-radio_400x200.jpg
END:VEVENT
BEGIN:VEVENT
DTSTART;TZID=America/Chicago:20260531T120000
DTEND;TZID=America/Chicago:20260531T123000
DTSTAMP:20260423T141812
CREATED:20250416T213628Z
LAST-MODIFIED:20250416T213628Z
UID:10001110-1780228800-1780230600@www.ktim.org
SUMMARY:Shared Lutheran Ministry Church Service
DESCRIPTION:
URL:https://www.ktim.org/event/shared-lutheran-ministry-church-service/2026-05-31/
END:VEVENT
BEGIN:VEVENT
DTSTART;TZID=America/Chicago:20260531T150000
DTEND;TZID=America/Chicago:20260531T170000
DTSTAMP:20260423T141812
CREATED:20250416T215613Z
LAST-MODIFIED:20250416T215613Z
UID:10001438-1780239600-1780246800@www.ktim.org
SUMMARY:Parnellahan's
DESCRIPTION:Hosted by Charles “The Rocking Rev” Parnell\nWednesdays 2pm-4pm\, Thursdays 8pm-10pm\, Sundays 3pm-5pm \nWelcome to Parnellahan’s. Charles Parnell\, aka the Rocking Rev\, is the host of Parnellahan’s. Vinyl Junkie. Record Hoarder. Music Collector. The Song Wrangler introduced him as\, “an audiophile and a musicologist\,” but that sounds too high-falutin! He’s just a lover of music. His love began with listening to a transistor radio under the covers at night. By “skip”\, he was able to pick up WLS – Chicago\, KOMA – Oklahoma City\, and KLIF – Dallas\, where he learned about The Rolling Stones\, the Beatles and the great sound of Motown. He learned about Hank Williams and George Jones by listening to radio with his father. He is an avid Texas Music and early Jesus Rock fan. Parnellahan’s is named in honor of Callahan’s Crosstime Saloon from Spider Robinson’s books\, a place where troubles shared are troubles halved. He hopes that the music he plays will lighten your load\, unburden your soul and make you dance.
URL:https://www.ktim.org/event/parnellahans/2026-05-31/
ATTACH;FMTTYPE=image/jpeg:https://www.ktim.org/wp-content/uploads/2025/03/therev_400x200.jpg
END:VEVENT
BEGIN:VEVENT
DTSTART;TZID=America/Chicago:20260531T180000
DTEND;TZID=America/Chicago:20260531T200000
DTSTAMP:20260423T141812
CREATED:20250416T180834Z
LAST-MODIFIED:20250416T182029Z
UID:10000126-1780250400-1780257600@www.ktim.org
SUMMARY:The Sunday Night Idiot Show
DESCRIPTION:Hosted by John Askins\nSundays 6pm-8pm \nFrom 1983 through the early 1990’s\, KFOG-FM in San Francisco had a legendary disc jockey on the air known as M. Dung\, who passed away peacefully on June 30\, 2017. “Dung Boy\,” as he was known was just as much a unique radio personality as “Wolfman Jack” was in his heyday during the 1960’s over the Mexican radio station XERB-AM! The self-effacing M. Dung called his radio show\, “The Sunday Night Idiot Show” for a reason. “The Sunday Night Idiot Show” was a free-form mixture of roots rock\, immaculate soul\, excellent oldies\, and eclectic ear candy. Inside the program itself\, M. ranted and howled at the moon in harmony with hand-picked music that definitely moved. He played all the right music for the idiots in the audience and judging by Dung’s success\, there were a lot of idiots out there in radio land to give him some respectable ratings. Part of his secret was that Dung didn’t treat his listeners like idiots and he scored the #1 18-34 adult ratings\, (the money demo) in all the nine counties of the San Francisco Bay Area during a very nice stretch of his run at KFOG.
URL:https://www.ktim.org/event/the-sunday-night-idiot-show/2026-05-31/
ATTACH;FMTTYPE=image/jpeg:https://www.ktim.org/wp-content/uploads/2025/04/idiotshow_400x200.jpg
END:VEVENT
BEGIN:VEVENT
DTSTART;TZID=America/Chicago:20260531T210000
DTEND;TZID=America/Chicago:20260531T220000
DTSTAMP:20260423T141812
CREATED:20250416T231238Z
LAST-MODIFIED:20250416T231238Z
UID:10002422-1780261200-1780264800@www.ktim.org
SUMMARY:The Rock and Roll Show
DESCRIPTION:Hosted by Doug Elliot\nWednesdays 5-6pm\, Fridays Midnight-1am\, Sundays 9pm-10pm \nThe Rock and Roll Show mixes nuggets from LPs with a healthy dose of B-sides. A little history and backstory shows up now and then in between the tunes. \nDoug Elliot\, aka “The Fayette County Sky Guy”\, grew up listening to 45s and LPs back in the 60s and has been a record collector and certified music nut ever since. He spends as much time outdoors as he can.
URL:https://www.ktim.org/event/the-rock-and-roll-show/2026-05-31/
ATTACH;FMTTYPE=image/jpeg:https://www.ktim.org/wp-content/uploads/2025/04/doug_400x200.jpg
END:VEVENT
BEGIN:VEVENT
DTSTART;TZID=America/Chicago:20260601T100000
DTEND;TZID=America/Chicago:20260601T120000
DTSTAMP:20260423T141812
CREATED:20250416T210412Z
LAST-MODIFIED:20250416T210412Z
UID:10000580-1780308000-1780315200@www.ktim.org
SUMMARY:Folk Tapestry
DESCRIPTION:Hosted by Joe Angel\nMondays\, Sundays 10am-Noon \nFolk Tapestry weaves together the threads that form roots music and includes an eclectic mix of traditional and contemporary folk\, singer/songwriter\, country\, cowboy\, western swing\, bluegrass\, rockabilly\, blues\, Cajun/Zydeco\, Celtic\, and more.
URL:https://www.ktim.org/event/folk-tapestry/2026-06-01/
ATTACH;FMTTYPE=image/jpeg:https://www.ktim.org/wp-content/uploads/2025/03/Joe-Angel-radio_400x200.jpg
END:VEVENT
BEGIN:VEVENT
DTSTART;TZID=America/Chicago:20260601T170000
DTEND;TZID=America/Chicago:20260601T180000
DTSTAMP:20260423T141812
CREATED:20250416T234207Z
LAST-MODIFIED:20250416T234207Z
UID:10003407-1780333200-1780336800@www.ktim.org
SUMMARY:The DougHouse
DESCRIPTION:Hosted by Doug Elliot\nMondays 5pm-6pm\, Fridays Noon-1pm \nThe DougHouse mixes nuggets from LPs with a healthy dose of B-sides. A little history and backstory shows up now and then in between the tunes. \nDoug Elliot\, aka “The Fayette County Sky Guy”\, grew up listening to 45s and LPs back in the 60s and has been a record collector and certified music nut ever since. He spends as much time outdoors as he can.
URL:https://www.ktim.org/event/the-doughouse/2026-06-01/
ATTACH;FMTTYPE=image/jpeg:https://www.ktim.org/wp-content/uploads/2025/04/doug_400x200.jpg
END:VEVENT
BEGIN:VEVENT
DTSTART;TZID=America/Chicago:20260601T180000
DTEND;TZID=America/Chicago:20260601T200000
DTSTAMP:20260423T141812
CREATED:20250417T001109Z
LAST-MODIFIED:20250417T001109Z
UID:10005246-1780336800-1780344000@www.ktim.org
SUMMARY:Bugle Boy Mix
DESCRIPTION:Hosted by The Bugle Boy\nMonday-Saturday 6pm-8pm \nBugle Boy Mix is a mix of music by artists that have played The Bugle Boy in La Grange\, Texas. The Bugle Boy is a unique venue that features top national and international independent artists in the genres of Americana\, blues\, rock and folk. For more information and show schedules visit thebugleboy.org.
URL:https://www.ktim.org/event/bugle-boy-mix/2026-06-01/
ATTACH;FMTTYPE=image/jpeg:https://www.ktim.org/wp-content/uploads/2025/04/Bugle_Boy_KTIM_400x200.jpg
END:VEVENT
BEGIN:VEVENT
DTSTART;TZID=America/Chicago:20260602T120000
DTEND;TZID=America/Chicago:20260602T140000
DTSTAMP:20260423T141812
CREATED:20250416T235621Z
LAST-MODIFIED:20250416T235621Z
UID:10004011-1780401600-1780408800@www.ktim.org
SUMMARY:Across the Board with Becky
DESCRIPTION:
URL:https://www.ktim.org/event/across-the-board-with-becky/2026-06-02/
END:VEVENT
BEGIN:VEVENT
DTSTART;TZID=America/Chicago:20260602T180000
DTEND;TZID=America/Chicago:20260602T200000
DTSTAMP:20260423T141812
CREATED:20250417T001109Z
LAST-MODIFIED:20250417T001109Z
UID:10005247-1780423200-1780430400@www.ktim.org
SUMMARY:Bugle Boy Mix
DESCRIPTION:Hosted by The Bugle Boy\nMonday-Saturday 6pm-8pm \nBugle Boy Mix is a mix of music by artists that have played The Bugle Boy in La Grange\, Texas. The Bugle Boy is a unique venue that features top national and international independent artists in the genres of Americana\, blues\, rock and folk. For more information and show schedules visit thebugleboy.org.
URL:https://www.ktim.org/event/bugle-boy-mix/2026-06-02/
ATTACH;FMTTYPE=image/jpeg:https://www.ktim.org/wp-content/uploads/2025/04/Bugle_Boy_KTIM_400x200.jpg
END:VEVENT
BEGIN:VEVENT
DTSTART;TZID=America/Chicago:20260603T140000
DTEND;TZID=America/Chicago:20260603T160000
DTSTAMP:20260423T141812
CREATED:20250416T220030Z
LAST-MODIFIED:20250416T220030Z
UID:10001767-1780495200-1780502400@www.ktim.org
SUMMARY:Parnellahan's
DESCRIPTION:Hosted by Charles “The Rocking Rev” Parnell\nWednesdays 2pm-4pm\, Thursdays 8pm-10pm\, Sundays 3pm-5pm \nWelcome to Parnellahan’s. Charles Parnell\, aka the Rocking Rev\, is the host of Parnellahan’s. Vinyl Junkie. Record Hoarder. Music Collector. The Song Wrangler introduced him as\, “an audiophile and a musicologist\,” but that sounds too high-falutin! He’s just a lover of music. His love began with listening to a transistor radio under the covers at night. By “skip”\, he was able to pick up WLS – Chicago\, KOMA – Oklahoma City\, and KLIF – Dallas\, where he learned about The Rolling Stones\, the Beatles and the great sound of Motown. He learned about Hank Williams and George Jones by listening to radio with his father. He is an avid Texas Music and early Jesus Rock fan. Parnellahan’s is named in honor of Callahan’s Crosstime Saloon from Spider Robinson’s books\, a place where troubles shared are troubles halved. He hopes that the music he plays will lighten your load\, unburden your soul and make you dance.
URL:https://www.ktim.org/event/parnellahans-2/2026-06-03/
ATTACH;FMTTYPE=image/jpeg:https://www.ktim.org/wp-content/uploads/2025/03/therev_400x200.jpg
END:VEVENT
BEGIN:VEVENT
DTSTART;TZID=America/Chicago:20260603T170000
DTEND;TZID=America/Chicago:20260603T180000
DTSTAMP:20260423T141812
CREATED:20250416T232640Z
LAST-MODIFIED:20250416T232640Z
UID:10002751-1780506000-1780509600@www.ktim.org
SUMMARY:The Rock and Roll Show
DESCRIPTION:Hosted by Doug Elliot\nWednesdays 5-6pm\, Fridays Midnight-1am\, Sundays 9pm-10pm \nThe Rock and Roll Show mixes nuggets from LPs with a healthy dose of B-sides. A little history and backstory shows up now and then in between the tunes. \nDoug Elliot\, aka “The Fayette County Sky Guy”\, grew up listening to 45s and LPs back in the 60s and has been a record collector and certified music nut ever since. He spends as much time outdoors as he can.
URL:https://www.ktim.org/event/the-rock-and-roll-show-2/2026-06-03/
ATTACH;FMTTYPE=image/jpeg:https://www.ktim.org/wp-content/uploads/2025/04/doug_400x200.jpg
END:VEVENT
BEGIN:VEVENT
DTSTART;TZID=America/Chicago:20260603T180000
DTEND;TZID=America/Chicago:20260603T200000
DTSTAMP:20260423T141812
CREATED:20250417T001109Z
LAST-MODIFIED:20250417T001109Z
UID:10005248-1780509600-1780516800@www.ktim.org
SUMMARY:Bugle Boy Mix
DESCRIPTION:Hosted by The Bugle Boy\nMonday-Saturday 6pm-8pm \nBugle Boy Mix is a mix of music by artists that have played The Bugle Boy in La Grange\, Texas. The Bugle Boy is a unique venue that features top national and international independent artists in the genres of Americana\, blues\, rock and folk. For more information and show schedules visit thebugleboy.org.
URL:https://www.ktim.org/event/bugle-boy-mix/2026-06-03/
ATTACH;FMTTYPE=image/jpeg:https://www.ktim.org/wp-content/uploads/2025/04/Bugle_Boy_KTIM_400x200.jpg
END:VEVENT
BEGIN:VEVENT
DTSTART;TZID=America/Chicago:20260604T140000
DTEND;TZID=America/Chicago:20260604T180000
DTSTAMP:20260423T141812
CREATED:20250417T001943Z
LAST-MODIFIED:20250417T001943Z
UID:10006586-1780581600-1780596000@www.ktim.org
SUMMARY:The Eddie-O Show
DESCRIPTION:Hosted by Eddie Oppermann\nThursdays 2pm-6pm
URL:https://www.ktim.org/event/the-eddie-o-show/2026-06-04/
ATTACH;FMTTYPE=image/jpeg:https://www.ktim.org/wp-content/uploads/2025/04/eddie_o.jpg
END:VEVENT
BEGIN:VEVENT
DTSTART;TZID=America/Chicago:20260604T180000
DTEND;TZID=America/Chicago:20260604T200000
DTSTAMP:20260423T141812
CREATED:20250417T001109Z
LAST-MODIFIED:20250417T001109Z
UID:10005249-1780596000-1780603200@www.ktim.org
SUMMARY:Bugle Boy Mix
DESCRIPTION:Hosted by The Bugle Boy\nMonday-Saturday 6pm-8pm \nBugle Boy Mix is a mix of music by artists that have played The Bugle Boy in La Grange\, Texas. The Bugle Boy is a unique venue that features top national and international independent artists in the genres of Americana\, blues\, rock and folk. For more information and show schedules visit thebugleboy.org.
URL:https://www.ktim.org/event/bugle-boy-mix/2026-06-04/
ATTACH;FMTTYPE=image/jpeg:https://www.ktim.org/wp-content/uploads/2025/04/Bugle_Boy_KTIM_400x200.jpg
END:VEVENT
BEGIN:VEVENT
DTSTART;TZID=America/Chicago:20260604T200000
DTEND;TZID=America/Chicago:20260604T220000
DTSTAMP:20260423T141812
CREATED:20250416T221058Z
LAST-MODIFIED:20250416T221137Z
UID:10002095-1780603200-1780610400@www.ktim.org
SUMMARY:Parnellahan's
DESCRIPTION:Hosted by Charles “The Rocking Rev” Parnell\nWednesdays 2pm-4pm\, Thursdays 8pm-10pm\, Sundays 3pm-5pm \nWelcome to Parnellahan’s. Charles Parnell\, aka the Rocking Rev\, is the host of Parnellahan’s. Vinyl Junkie. Record Hoarder. Music Collector. The Song Wrangler introduced him as\, “an audiophile and a musicologist\,” but that sounds too high-falutin! He’s just a lover of music. His love began with listening to a transistor radio under the covers at night. By “skip”\, he was able to pick up WLS – Chicago\, KOMA – Oklahoma City\, and KLIF – Dallas\, where he learned about The Rolling Stones\, the Beatles and the great sound of Motown. He learned about Hank Williams and George Jones by listening to radio with his father. He is an avid Texas Music and early Jesus Rock fan. Parnellahan’s is named in honor of Callahan’s Crosstime Saloon from Spider Robinson’s books\, a place where troubles shared are troubles halved. He hopes that the music he plays will lighten your load\, unburden your soul and make you dance.
URL:https://www.ktim.org/event/parnellahans-3/2026-06-04/
ATTACH;FMTTYPE=image/jpeg:https://www.ktim.org/wp-content/uploads/2025/03/therev_400x200.jpg
END:VEVENT
BEGIN:VEVENT
DTSTART;TZID=America/Chicago:20260605T000000
DTEND;TZID=America/Chicago:20260605T010000
DTSTAMP:20260423T141812
CREATED:20250416T233519Z
LAST-MODIFIED:20250416T233519Z
UID:10003079-1780617600-1780621200@www.ktim.org
SUMMARY:The Rock and Roll Show
DESCRIPTION:Hosted by Doug Elliot\nWednesdays 5-6pm\, Fridays Midnight-1am\, Sundays 9pm-10pm \nThe Rock and Roll Show mixes nuggets from LPs with a healthy dose of B-sides. A little history and backstory shows up now and then in between the tunes. \nDoug Elliot\, aka “The Fayette County Sky Guy”\, grew up listening to 45s and LPs back in the 60s and has been a record collector and certified music nut ever since. He spends as much time outdoors as he can.
URL:https://www.ktim.org/event/the-rock-and-roll-show-3/2026-06-05/
ATTACH;FMTTYPE=image/jpeg:https://www.ktim.org/wp-content/uploads/2025/04/doug_400x200.jpg
END:VEVENT
BEGIN:VEVENT
DTSTART;TZID=America/Chicago:20260605T100000
DTEND;TZID=America/Chicago:20260605T120000
DTSTAMP:20260423T141812
CREATED:20250416T235730Z
LAST-MODIFIED:20250416T235730Z
UID:10004288-1780653600-1780660800@www.ktim.org
SUMMARY:Across the Board with Becky
DESCRIPTION:
URL:https://www.ktim.org/event/across-the-board-with-becky-2/2026-06-05/
END:VEVENT
BEGIN:VEVENT
DTSTART;TZID=America/Chicago:20260605T120000
DTEND;TZID=America/Chicago:20260605T130000
DTSTAMP:20260423T141812
CREATED:20250416T234837Z
LAST-MODIFIED:20250416T234837Z
UID:10003736-1780660800-1780664400@www.ktim.org
SUMMARY:The DougHouse
DESCRIPTION:Hosted by Doug Elliot\nMondays 5pm-6pm\, Fridays Noon-1pm \nThe DougHouse mixes nuggets from LPs with a healthy dose of B-sides. A little history and backstory shows up now and then in between the tunes. \nDoug Elliot\, aka “The Fayette County Sky Guy”\, grew up listening to 45s and LPs back in the 60s and has been a record collector and certified music nut ever since. He spends as much time outdoors as he can.
URL:https://www.ktim.org/event/the-doughouse-2/2026-06-05/
ATTACH;FMTTYPE=image/jpeg:https://www.ktim.org/wp-content/uploads/2025/04/doug_400x200.jpg
END:VEVENT
BEGIN:VEVENT
DTSTART;TZID=America/Chicago:20260605T180000
DTEND;TZID=America/Chicago:20260605T200000
DTSTAMP:20260423T141812
CREATED:20250417T001109Z
LAST-MODIFIED:20250417T001109Z
UID:10005250-1780682400-1780689600@www.ktim.org
SUMMARY:Bugle Boy Mix
DESCRIPTION:Hosted by The Bugle Boy\nMonday-Saturday 6pm-8pm \nBugle Boy Mix is a mix of music by artists that have played The Bugle Boy in La Grange\, Texas. The Bugle Boy is a unique venue that features top national and international independent artists in the genres of Americana\, blues\, rock and folk. For more information and show schedules visit thebugleboy.org.
URL:https://www.ktim.org/event/bugle-boy-mix/2026-06-05/
ATTACH;FMTTYPE=image/jpeg:https://www.ktim.org/wp-content/uploads/2025/04/Bugle_Boy_KTIM_400x200.jpg
END:VEVENT
BEGIN:VEVENT
DTSTART;TZID=America/Chicago:20260606T180000
DTEND;TZID=America/Chicago:20260606T200000
DTSTAMP:20260423T141812
CREATED:20250417T001109Z
LAST-MODIFIED:20250417T001109Z
UID:10005251-1780768800-1780776000@www.ktim.org
SUMMARY:Bugle Boy Mix
DESCRIPTION:Hosted by The Bugle Boy\nMonday-Saturday 6pm-8pm \nBugle Boy Mix is a mix of music by artists that have played The Bugle Boy in La Grange\, Texas. The Bugle Boy is a unique venue that features top national and international independent artists in the genres of Americana\, blues\, rock and folk. For more information and show schedules visit thebugleboy.org.
URL:https://www.ktim.org/event/bugle-boy-mix/2026-06-06/
ATTACH;FMTTYPE=image/jpeg:https://www.ktim.org/wp-content/uploads/2025/04/Bugle_Boy_KTIM_400x200.jpg
END:VEVENT
BEGIN:VEVENT
DTSTART;TZID=America/Chicago:20260607T100000
DTEND;TZID=America/Chicago:20260607T120000
DTSTAMP:20260423T141812
CREATED:20250416T210412Z
LAST-MODIFIED:20250416T210412Z
UID:10000581-1780826400-1780833600@www.ktim.org
SUMMARY:Folk Tapestry
DESCRIPTION:Hosted by Joe Angel\nMondays\, Sundays 10am-Noon \nFolk Tapestry weaves together the threads that form roots music and includes an eclectic mix of traditional and contemporary folk\, singer/songwriter\, country\, cowboy\, western swing\, bluegrass\, rockabilly\, blues\, Cajun/Zydeco\, Celtic\, and more.
URL:https://www.ktim.org/event/folk-tapestry/2026-06-07/
ATTACH;FMTTYPE=image/jpeg:https://www.ktim.org/wp-content/uploads/2025/03/Joe-Angel-radio_400x200.jpg
END:VEVENT
END:VCALENDAR