BEGIN:VCALENDAR
VERSION:2.0
PRODID:-//K-TIMe | KTIM 89.1 FM Music Sports Talk Radio | La Grange, Texas - ECPv6.15.20//NONSGML v1.0//EN
CALSCALE:GREGORIAN
METHOD:PUBLISH
X-WR-CALNAME:K-TIMe | KTIM 89.1 FM Music Sports Talk Radio | La Grange, Texas
X-ORIGINAL-URL:https://www.ktim.org
X-WR-CALDESC:Events for K-TIMe | KTIM 89.1 FM Music Sports Talk Radio | La Grange, Texas
REFRESH-INTERVAL;VALUE=DURATION:PT1H
X-Robots-Tag:noindex
X-PUBLISHED-TTL:PT1H
BEGIN:VTIMEZONE
TZID:America/Chicago
BEGIN:DAYLIGHT
TZOFFSETFROM:-0600
TZOFFSETTO:-0500
TZNAME:CDT
DTSTART:20250309T080000
END:DAYLIGHT
BEGIN:STANDARD
TZOFFSETFROM:-0500
TZOFFSETTO:-0600
TZNAME:CST
DTSTART:20251102T070000
END:STANDARD
BEGIN:DAYLIGHT
TZOFFSETFROM:-0600
TZOFFSETTO:-0500
TZNAME:CDT
DTSTART:20260308T080000
END:DAYLIGHT
BEGIN:STANDARD
TZOFFSETFROM:-0500
TZOFFSETTO:-0600
TZNAME:CST
DTSTART:20261101T070000
END:STANDARD
BEGIN:DAYLIGHT
TZOFFSETFROM:-0600
TZOFFSETTO:-0500
TZNAME:CDT
DTSTART:20270314T080000
END:DAYLIGHT
BEGIN:STANDARD
TZOFFSETFROM:-0500
TZOFFSETTO:-0600
TZNAME:CST
DTSTART:20271107T070000
END:STANDARD
END:VTIMEZONE
BEGIN:VEVENT
DTSTART;TZID=America/Chicago:20260424T120000
DTEND;TZID=America/Chicago:20260424T130000
DTSTAMP:20260423T110318
CREATED:20250416T234837Z
LAST-MODIFIED:20250416T234837Z
UID:10003730-1777032000-1777035600@www.ktim.org
SUMMARY:The DougHouse
DESCRIPTION:Hosted by Doug Elliot\nMondays 5pm-6pm\, Fridays Noon-1pm \nThe DougHouse mixes nuggets from LPs with a healthy dose of B-sides. A little history and backstory shows up now and then in between the tunes. \nDoug Elliot\, aka “The Fayette County Sky Guy”\, grew up listening to 45s and LPs back in the 60s and has been a record collector and certified music nut ever since. He spends as much time outdoors as he can.
URL:https://www.ktim.org/event/the-doughouse-2/2026-04-24/
ATTACH;FMTTYPE=image/jpeg:https://www.ktim.org/wp-content/uploads/2025/04/doug_400x200.jpg
END:VEVENT
BEGIN:VEVENT
DTSTART;TZID=America/Chicago:20260501T120000
DTEND;TZID=America/Chicago:20260501T130000
DTSTAMP:20260423T110318
CREATED:20250416T234837Z
LAST-MODIFIED:20250416T234837Z
UID:10003731-1777636800-1777640400@www.ktim.org
SUMMARY:The DougHouse
DESCRIPTION:Hosted by Doug Elliot\nMondays 5pm-6pm\, Fridays Noon-1pm \nThe DougHouse mixes nuggets from LPs with a healthy dose of B-sides. A little history and backstory shows up now and then in between the tunes. \nDoug Elliot\, aka “The Fayette County Sky Guy”\, grew up listening to 45s and LPs back in the 60s and has been a record collector and certified music nut ever since. He spends as much time outdoors as he can.
URL:https://www.ktim.org/event/the-doughouse-2/2026-05-01/
ATTACH;FMTTYPE=image/jpeg:https://www.ktim.org/wp-content/uploads/2025/04/doug_400x200.jpg
END:VEVENT
BEGIN:VEVENT
DTSTART;TZID=America/Chicago:20260508T120000
DTEND;TZID=America/Chicago:20260508T130000
DTSTAMP:20260423T110318
CREATED:20250416T234837Z
LAST-MODIFIED:20250416T234837Z
UID:10003732-1778241600-1778245200@www.ktim.org
SUMMARY:The DougHouse
DESCRIPTION:Hosted by Doug Elliot\nMondays 5pm-6pm\, Fridays Noon-1pm \nThe DougHouse mixes nuggets from LPs with a healthy dose of B-sides. A little history and backstory shows up now and then in between the tunes. \nDoug Elliot\, aka “The Fayette County Sky Guy”\, grew up listening to 45s and LPs back in the 60s and has been a record collector and certified music nut ever since. He spends as much time outdoors as he can.
URL:https://www.ktim.org/event/the-doughouse-2/2026-05-08/
ATTACH;FMTTYPE=image/jpeg:https://www.ktim.org/wp-content/uploads/2025/04/doug_400x200.jpg
END:VEVENT
BEGIN:VEVENT
DTSTART;TZID=America/Chicago:20260515T120000
DTEND;TZID=America/Chicago:20260515T130000
DTSTAMP:20260423T110318
CREATED:20250416T234837Z
LAST-MODIFIED:20250416T234837Z
UID:10003733-1778846400-1778850000@www.ktim.org
SUMMARY:The DougHouse
DESCRIPTION:Hosted by Doug Elliot\nMondays 5pm-6pm\, Fridays Noon-1pm \nThe DougHouse mixes nuggets from LPs with a healthy dose of B-sides. A little history and backstory shows up now and then in between the tunes. \nDoug Elliot\, aka “The Fayette County Sky Guy”\, grew up listening to 45s and LPs back in the 60s and has been a record collector and certified music nut ever since. He spends as much time outdoors as he can.
URL:https://www.ktim.org/event/the-doughouse-2/2026-05-15/
ATTACH;FMTTYPE=image/jpeg:https://www.ktim.org/wp-content/uploads/2025/04/doug_400x200.jpg
END:VEVENT
BEGIN:VEVENT
DTSTART;TZID=America/Chicago:20260522T120000
DTEND;TZID=America/Chicago:20260522T130000
DTSTAMP:20260423T110318
CREATED:20250416T234837Z
LAST-MODIFIED:20250416T234837Z
UID:10003734-1779451200-1779454800@www.ktim.org
SUMMARY:The DougHouse
DESCRIPTION:Hosted by Doug Elliot\nMondays 5pm-6pm\, Fridays Noon-1pm \nThe DougHouse mixes nuggets from LPs with a healthy dose of B-sides. A little history and backstory shows up now and then in between the tunes. \nDoug Elliot\, aka “The Fayette County Sky Guy”\, grew up listening to 45s and LPs back in the 60s and has been a record collector and certified music nut ever since. He spends as much time outdoors as he can.
URL:https://www.ktim.org/event/the-doughouse-2/2026-05-22/
ATTACH;FMTTYPE=image/jpeg:https://www.ktim.org/wp-content/uploads/2025/04/doug_400x200.jpg
END:VEVENT
BEGIN:VEVENT
DTSTART;TZID=America/Chicago:20260529T120000
DTEND;TZID=America/Chicago:20260529T130000
DTSTAMP:20260423T110318
CREATED:20250416T234837Z
LAST-MODIFIED:20250416T234837Z
UID:10003735-1780056000-1780059600@www.ktim.org
SUMMARY:The DougHouse
DESCRIPTION:Hosted by Doug Elliot\nMondays 5pm-6pm\, Fridays Noon-1pm \nThe DougHouse mixes nuggets from LPs with a healthy dose of B-sides. A little history and backstory shows up now and then in between the tunes. \nDoug Elliot\, aka “The Fayette County Sky Guy”\, grew up listening to 45s and LPs back in the 60s and has been a record collector and certified music nut ever since. He spends as much time outdoors as he can.
URL:https://www.ktim.org/event/the-doughouse-2/2026-05-29/
ATTACH;FMTTYPE=image/jpeg:https://www.ktim.org/wp-content/uploads/2025/04/doug_400x200.jpg
END:VEVENT
BEGIN:VEVENT
DTSTART;TZID=America/Chicago:20260605T120000
DTEND;TZID=America/Chicago:20260605T130000
DTSTAMP:20260423T110318
CREATED:20250416T234837Z
LAST-MODIFIED:20250416T234837Z
UID:10003736-1780660800-1780664400@www.ktim.org
SUMMARY:The DougHouse
DESCRIPTION:Hosted by Doug Elliot\nMondays 5pm-6pm\, Fridays Noon-1pm \nThe DougHouse mixes nuggets from LPs with a healthy dose of B-sides. A little history and backstory shows up now and then in between the tunes. \nDoug Elliot\, aka “The Fayette County Sky Guy”\, grew up listening to 45s and LPs back in the 60s and has been a record collector and certified music nut ever since. He spends as much time outdoors as he can.
URL:https://www.ktim.org/event/the-doughouse-2/2026-06-05/
ATTACH;FMTTYPE=image/jpeg:https://www.ktim.org/wp-content/uploads/2025/04/doug_400x200.jpg
END:VEVENT
BEGIN:VEVENT
DTSTART;TZID=America/Chicago:20260612T120000
DTEND;TZID=America/Chicago:20260612T130000
DTSTAMP:20260423T110318
CREATED:20250416T234837Z
LAST-MODIFIED:20250416T234837Z
UID:10003737-1781265600-1781269200@www.ktim.org
SUMMARY:The DougHouse
DESCRIPTION:Hosted by Doug Elliot\nMondays 5pm-6pm\, Fridays Noon-1pm \nThe DougHouse mixes nuggets from LPs with a healthy dose of B-sides. A little history and backstory shows up now and then in between the tunes. \nDoug Elliot\, aka “The Fayette County Sky Guy”\, grew up listening to 45s and LPs back in the 60s and has been a record collector and certified music nut ever since. He spends as much time outdoors as he can.
URL:https://www.ktim.org/event/the-doughouse-2/2026-06-12/
ATTACH;FMTTYPE=image/jpeg:https://www.ktim.org/wp-content/uploads/2025/04/doug_400x200.jpg
END:VEVENT
BEGIN:VEVENT
DTSTART;TZID=America/Chicago:20260619T120000
DTEND;TZID=America/Chicago:20260619T130000
DTSTAMP:20260423T110318
CREATED:20250416T234837Z
LAST-MODIFIED:20250416T234837Z
UID:10003738-1781870400-1781874000@www.ktim.org
SUMMARY:The DougHouse
DESCRIPTION:Hosted by Doug Elliot\nMondays 5pm-6pm\, Fridays Noon-1pm \nThe DougHouse mixes nuggets from LPs with a healthy dose of B-sides. A little history and backstory shows up now and then in between the tunes. \nDoug Elliot\, aka “The Fayette County Sky Guy”\, grew up listening to 45s and LPs back in the 60s and has been a record collector and certified music nut ever since. He spends as much time outdoors as he can.
URL:https://www.ktim.org/event/the-doughouse-2/2026-06-19/
ATTACH;FMTTYPE=image/jpeg:https://www.ktim.org/wp-content/uploads/2025/04/doug_400x200.jpg
END:VEVENT
BEGIN:VEVENT
DTSTART;TZID=America/Chicago:20260626T120000
DTEND;TZID=America/Chicago:20260626T130000
DTSTAMP:20260423T110318
CREATED:20250416T234837Z
LAST-MODIFIED:20250416T234837Z
UID:10003739-1782475200-1782478800@www.ktim.org
SUMMARY:The DougHouse
DESCRIPTION:Hosted by Doug Elliot\nMondays 5pm-6pm\, Fridays Noon-1pm \nThe DougHouse mixes nuggets from LPs with a healthy dose of B-sides. A little history and backstory shows up now and then in between the tunes. \nDoug Elliot\, aka “The Fayette County Sky Guy”\, grew up listening to 45s and LPs back in the 60s and has been a record collector and certified music nut ever since. He spends as much time outdoors as he can.
URL:https://www.ktim.org/event/the-doughouse-2/2026-06-26/
ATTACH;FMTTYPE=image/jpeg:https://www.ktim.org/wp-content/uploads/2025/04/doug_400x200.jpg
END:VEVENT
BEGIN:VEVENT
DTSTART;TZID=America/Chicago:20260703T120000
DTEND;TZID=America/Chicago:20260703T130000
DTSTAMP:20260423T110318
CREATED:20250416T234837Z
LAST-MODIFIED:20250416T234837Z
UID:10003740-1783080000-1783083600@www.ktim.org
SUMMARY:The DougHouse
DESCRIPTION:Hosted by Doug Elliot\nMondays 5pm-6pm\, Fridays Noon-1pm \nThe DougHouse mixes nuggets from LPs with a healthy dose of B-sides. A little history and backstory shows up now and then in between the tunes. \nDoug Elliot\, aka “The Fayette County Sky Guy”\, grew up listening to 45s and LPs back in the 60s and has been a record collector and certified music nut ever since. He spends as much time outdoors as he can.
URL:https://www.ktim.org/event/the-doughouse-2/2026-07-03/
ATTACH;FMTTYPE=image/jpeg:https://www.ktim.org/wp-content/uploads/2025/04/doug_400x200.jpg
END:VEVENT
BEGIN:VEVENT
DTSTART;TZID=America/Chicago:20260710T120000
DTEND;TZID=America/Chicago:20260710T130000
DTSTAMP:20260423T110318
CREATED:20250416T234837Z
LAST-MODIFIED:20250416T234837Z
UID:10003741-1783684800-1783688400@www.ktim.org
SUMMARY:The DougHouse
DESCRIPTION:Hosted by Doug Elliot\nMondays 5pm-6pm\, Fridays Noon-1pm \nThe DougHouse mixes nuggets from LPs with a healthy dose of B-sides. A little history and backstory shows up now and then in between the tunes. \nDoug Elliot\, aka “The Fayette County Sky Guy”\, grew up listening to 45s and LPs back in the 60s and has been a record collector and certified music nut ever since. He spends as much time outdoors as he can.
URL:https://www.ktim.org/event/the-doughouse-2/2026-07-10/
ATTACH;FMTTYPE=image/jpeg:https://www.ktim.org/wp-content/uploads/2025/04/doug_400x200.jpg
END:VEVENT
BEGIN:VEVENT
DTSTART;TZID=America/Chicago:20260717T120000
DTEND;TZID=America/Chicago:20260717T130000
DTSTAMP:20260423T110318
CREATED:20250416T234837Z
LAST-MODIFIED:20250416T234837Z
UID:10003742-1784289600-1784293200@www.ktim.org
SUMMARY:The DougHouse
DESCRIPTION:Hosted by Doug Elliot\nMondays 5pm-6pm\, Fridays Noon-1pm \nThe DougHouse mixes nuggets from LPs with a healthy dose of B-sides. A little history and backstory shows up now and then in between the tunes. \nDoug Elliot\, aka “The Fayette County Sky Guy”\, grew up listening to 45s and LPs back in the 60s and has been a record collector and certified music nut ever since. He spends as much time outdoors as he can.
URL:https://www.ktim.org/event/the-doughouse-2/2026-07-17/
ATTACH;FMTTYPE=image/jpeg:https://www.ktim.org/wp-content/uploads/2025/04/doug_400x200.jpg
END:VEVENT
BEGIN:VEVENT
DTSTART;TZID=America/Chicago:20260724T120000
DTEND;TZID=America/Chicago:20260724T130000
DTSTAMP:20260423T110318
CREATED:20250416T234837Z
LAST-MODIFIED:20250416T234837Z
UID:10003743-1784894400-1784898000@www.ktim.org
SUMMARY:The DougHouse
DESCRIPTION:Hosted by Doug Elliot\nMondays 5pm-6pm\, Fridays Noon-1pm \nThe DougHouse mixes nuggets from LPs with a healthy dose of B-sides. A little history and backstory shows up now and then in between the tunes. \nDoug Elliot\, aka “The Fayette County Sky Guy”\, grew up listening to 45s and LPs back in the 60s and has been a record collector and certified music nut ever since. He spends as much time outdoors as he can.
URL:https://www.ktim.org/event/the-doughouse-2/2026-07-24/
ATTACH;FMTTYPE=image/jpeg:https://www.ktim.org/wp-content/uploads/2025/04/doug_400x200.jpg
END:VEVENT
BEGIN:VEVENT
DTSTART;TZID=America/Chicago:20260731T120000
DTEND;TZID=America/Chicago:20260731T130000
DTSTAMP:20260423T110318
CREATED:20250416T234837Z
LAST-MODIFIED:20250416T234837Z
UID:10003744-1785499200-1785502800@www.ktim.org
SUMMARY:The DougHouse
DESCRIPTION:Hosted by Doug Elliot\nMondays 5pm-6pm\, Fridays Noon-1pm \nThe DougHouse mixes nuggets from LPs with a healthy dose of B-sides. A little history and backstory shows up now and then in between the tunes. \nDoug Elliot\, aka “The Fayette County Sky Guy”\, grew up listening to 45s and LPs back in the 60s and has been a record collector and certified music nut ever since. He spends as much time outdoors as he can.
URL:https://www.ktim.org/event/the-doughouse-2/2026-07-31/
ATTACH;FMTTYPE=image/jpeg:https://www.ktim.org/wp-content/uploads/2025/04/doug_400x200.jpg
END:VEVENT
BEGIN:VEVENT
DTSTART;TZID=America/Chicago:20260807T120000
DTEND;TZID=America/Chicago:20260807T130000
DTSTAMP:20260423T110318
CREATED:20250416T234837Z
LAST-MODIFIED:20250416T234837Z
UID:10003745-1786104000-1786107600@www.ktim.org
SUMMARY:The DougHouse
DESCRIPTION:Hosted by Doug Elliot\nMondays 5pm-6pm\, Fridays Noon-1pm \nThe DougHouse mixes nuggets from LPs with a healthy dose of B-sides. A little history and backstory shows up now and then in between the tunes. \nDoug Elliot\, aka “The Fayette County Sky Guy”\, grew up listening to 45s and LPs back in the 60s and has been a record collector and certified music nut ever since. He spends as much time outdoors as he can.
URL:https://www.ktim.org/event/the-doughouse-2/2026-08-07/
ATTACH;FMTTYPE=image/jpeg:https://www.ktim.org/wp-content/uploads/2025/04/doug_400x200.jpg
END:VEVENT
BEGIN:VEVENT
DTSTART;TZID=America/Chicago:20260814T120000
DTEND;TZID=America/Chicago:20260814T130000
DTSTAMP:20260423T110318
CREATED:20250416T234837Z
LAST-MODIFIED:20250416T234837Z
UID:10003746-1786708800-1786712400@www.ktim.org
SUMMARY:The DougHouse
DESCRIPTION:Hosted by Doug Elliot\nMondays 5pm-6pm\, Fridays Noon-1pm \nThe DougHouse mixes nuggets from LPs with a healthy dose of B-sides. A little history and backstory shows up now and then in between the tunes. \nDoug Elliot\, aka “The Fayette County Sky Guy”\, grew up listening to 45s and LPs back in the 60s and has been a record collector and certified music nut ever since. He spends as much time outdoors as he can.
URL:https://www.ktim.org/event/the-doughouse-2/2026-08-14/
ATTACH;FMTTYPE=image/jpeg:https://www.ktim.org/wp-content/uploads/2025/04/doug_400x200.jpg
END:VEVENT
BEGIN:VEVENT
DTSTART;TZID=America/Chicago:20260821T120000
DTEND;TZID=America/Chicago:20260821T130000
DTSTAMP:20260423T110318
CREATED:20250416T234837Z
LAST-MODIFIED:20250416T234837Z
UID:10003747-1787313600-1787317200@www.ktim.org
SUMMARY:The DougHouse
DESCRIPTION:Hosted by Doug Elliot\nMondays 5pm-6pm\, Fridays Noon-1pm \nThe DougHouse mixes nuggets from LPs with a healthy dose of B-sides. A little history and backstory shows up now and then in between the tunes. \nDoug Elliot\, aka “The Fayette County Sky Guy”\, grew up listening to 45s and LPs back in the 60s and has been a record collector and certified music nut ever since. He spends as much time outdoors as he can.
URL:https://www.ktim.org/event/the-doughouse-2/2026-08-21/
ATTACH;FMTTYPE=image/jpeg:https://www.ktim.org/wp-content/uploads/2025/04/doug_400x200.jpg
END:VEVENT
BEGIN:VEVENT
DTSTART;TZID=America/Chicago:20260828T120000
DTEND;TZID=America/Chicago:20260828T130000
DTSTAMP:20260423T110318
CREATED:20250416T234837Z
LAST-MODIFIED:20250416T234837Z
UID:10003748-1787918400-1787922000@www.ktim.org
SUMMARY:The DougHouse
DESCRIPTION:Hosted by Doug Elliot\nMondays 5pm-6pm\, Fridays Noon-1pm \nThe DougHouse mixes nuggets from LPs with a healthy dose of B-sides. A little history and backstory shows up now and then in between the tunes. \nDoug Elliot\, aka “The Fayette County Sky Guy”\, grew up listening to 45s and LPs back in the 60s and has been a record collector and certified music nut ever since. He spends as much time outdoors as he can.
URL:https://www.ktim.org/event/the-doughouse-2/2026-08-28/
ATTACH;FMTTYPE=image/jpeg:https://www.ktim.org/wp-content/uploads/2025/04/doug_400x200.jpg
END:VEVENT
BEGIN:VEVENT
DTSTART;TZID=America/Chicago:20260904T120000
DTEND;TZID=America/Chicago:20260904T130000
DTSTAMP:20260423T110318
CREATED:20250416T234837Z
LAST-MODIFIED:20250416T234837Z
UID:10003749-1788523200-1788526800@www.ktim.org
SUMMARY:The DougHouse
DESCRIPTION:Hosted by Doug Elliot\nMondays 5pm-6pm\, Fridays Noon-1pm \nThe DougHouse mixes nuggets from LPs with a healthy dose of B-sides. A little history and backstory shows up now and then in between the tunes. \nDoug Elliot\, aka “The Fayette County Sky Guy”\, grew up listening to 45s and LPs back in the 60s and has been a record collector and certified music nut ever since. He spends as much time outdoors as he can.
URL:https://www.ktim.org/event/the-doughouse-2/2026-09-04/
ATTACH;FMTTYPE=image/jpeg:https://www.ktim.org/wp-content/uploads/2025/04/doug_400x200.jpg
END:VEVENT
BEGIN:VEVENT
DTSTART;TZID=America/Chicago:20260911T120000
DTEND;TZID=America/Chicago:20260911T130000
DTSTAMP:20260423T110318
CREATED:20250416T234837Z
LAST-MODIFIED:20250416T234837Z
UID:10003750-1789128000-1789131600@www.ktim.org
SUMMARY:The DougHouse
DESCRIPTION:Hosted by Doug Elliot\nMondays 5pm-6pm\, Fridays Noon-1pm \nThe DougHouse mixes nuggets from LPs with a healthy dose of B-sides. A little history and backstory shows up now and then in between the tunes. \nDoug Elliot\, aka “The Fayette County Sky Guy”\, grew up listening to 45s and LPs back in the 60s and has been a record collector and certified music nut ever since. He spends as much time outdoors as he can.
URL:https://www.ktim.org/event/the-doughouse-2/2026-09-11/
ATTACH;FMTTYPE=image/jpeg:https://www.ktim.org/wp-content/uploads/2025/04/doug_400x200.jpg
END:VEVENT
BEGIN:VEVENT
DTSTART;TZID=America/Chicago:20260918T120000
DTEND;TZID=America/Chicago:20260918T130000
DTSTAMP:20260423T110318
CREATED:20250416T234837Z
LAST-MODIFIED:20250416T234837Z
UID:10003751-1789732800-1789736400@www.ktim.org
SUMMARY:The DougHouse
DESCRIPTION:Hosted by Doug Elliot\nMondays 5pm-6pm\, Fridays Noon-1pm \nThe DougHouse mixes nuggets from LPs with a healthy dose of B-sides. A little history and backstory shows up now and then in between the tunes. \nDoug Elliot\, aka “The Fayette County Sky Guy”\, grew up listening to 45s and LPs back in the 60s and has been a record collector and certified music nut ever since. He spends as much time outdoors as he can.
URL:https://www.ktim.org/event/the-doughouse-2/2026-09-18/
ATTACH;FMTTYPE=image/jpeg:https://www.ktim.org/wp-content/uploads/2025/04/doug_400x200.jpg
END:VEVENT
BEGIN:VEVENT
DTSTART;TZID=America/Chicago:20260925T120000
DTEND;TZID=America/Chicago:20260925T130000
DTSTAMP:20260423T110318
CREATED:20250416T234837Z
LAST-MODIFIED:20250416T234837Z
UID:10003752-1790337600-1790341200@www.ktim.org
SUMMARY:The DougHouse
DESCRIPTION:Hosted by Doug Elliot\nMondays 5pm-6pm\, Fridays Noon-1pm \nThe DougHouse mixes nuggets from LPs with a healthy dose of B-sides. A little history and backstory shows up now and then in between the tunes. \nDoug Elliot\, aka “The Fayette County Sky Guy”\, grew up listening to 45s and LPs back in the 60s and has been a record collector and certified music nut ever since. He spends as much time outdoors as he can.
URL:https://www.ktim.org/event/the-doughouse-2/2026-09-25/
ATTACH;FMTTYPE=image/jpeg:https://www.ktim.org/wp-content/uploads/2025/04/doug_400x200.jpg
END:VEVENT
BEGIN:VEVENT
DTSTART;TZID=America/Chicago:20261002T120000
DTEND;TZID=America/Chicago:20261002T130000
DTSTAMP:20260423T110318
CREATED:20250416T234837Z
LAST-MODIFIED:20250416T234837Z
UID:10003753-1790942400-1790946000@www.ktim.org
SUMMARY:The DougHouse
DESCRIPTION:Hosted by Doug Elliot\nMondays 5pm-6pm\, Fridays Noon-1pm \nThe DougHouse mixes nuggets from LPs with a healthy dose of B-sides. A little history and backstory shows up now and then in between the tunes. \nDoug Elliot\, aka “The Fayette County Sky Guy”\, grew up listening to 45s and LPs back in the 60s and has been a record collector and certified music nut ever since. He spends as much time outdoors as he can.
URL:https://www.ktim.org/event/the-doughouse-2/2026-10-02/
ATTACH;FMTTYPE=image/jpeg:https://www.ktim.org/wp-content/uploads/2025/04/doug_400x200.jpg
END:VEVENT
BEGIN:VEVENT
DTSTART;TZID=America/Chicago:20261009T120000
DTEND;TZID=America/Chicago:20261009T130000
DTSTAMP:20260423T110318
CREATED:20250416T234837Z
LAST-MODIFIED:20250416T234837Z
UID:10003754-1791547200-1791550800@www.ktim.org
SUMMARY:The DougHouse
DESCRIPTION:Hosted by Doug Elliot\nMondays 5pm-6pm\, Fridays Noon-1pm \nThe DougHouse mixes nuggets from LPs with a healthy dose of B-sides. A little history and backstory shows up now and then in between the tunes. \nDoug Elliot\, aka “The Fayette County Sky Guy”\, grew up listening to 45s and LPs back in the 60s and has been a record collector and certified music nut ever since. He spends as much time outdoors as he can.
URL:https://www.ktim.org/event/the-doughouse-2/2026-10-09/
ATTACH;FMTTYPE=image/jpeg:https://www.ktim.org/wp-content/uploads/2025/04/doug_400x200.jpg
END:VEVENT
BEGIN:VEVENT
DTSTART;TZID=America/Chicago:20261016T120000
DTEND;TZID=America/Chicago:20261016T130000
DTSTAMP:20260423T110318
CREATED:20250416T234837Z
LAST-MODIFIED:20250416T234837Z
UID:10003755-1792152000-1792155600@www.ktim.org
SUMMARY:The DougHouse
DESCRIPTION:Hosted by Doug Elliot\nMondays 5pm-6pm\, Fridays Noon-1pm \nThe DougHouse mixes nuggets from LPs with a healthy dose of B-sides. A little history and backstory shows up now and then in between the tunes. \nDoug Elliot\, aka “The Fayette County Sky Guy”\, grew up listening to 45s and LPs back in the 60s and has been a record collector and certified music nut ever since. He spends as much time outdoors as he can.
URL:https://www.ktim.org/event/the-doughouse-2/2026-10-16/
ATTACH;FMTTYPE=image/jpeg:https://www.ktim.org/wp-content/uploads/2025/04/doug_400x200.jpg
END:VEVENT
BEGIN:VEVENT
DTSTART;TZID=America/Chicago:20261023T120000
DTEND;TZID=America/Chicago:20261023T130000
DTSTAMP:20260423T110318
CREATED:20250416T234837Z
LAST-MODIFIED:20250416T234837Z
UID:10003756-1792756800-1792760400@www.ktim.org
SUMMARY:The DougHouse
DESCRIPTION:Hosted by Doug Elliot\nMondays 5pm-6pm\, Fridays Noon-1pm \nThe DougHouse mixes nuggets from LPs with a healthy dose of B-sides. A little history and backstory shows up now and then in between the tunes. \nDoug Elliot\, aka “The Fayette County Sky Guy”\, grew up listening to 45s and LPs back in the 60s and has been a record collector and certified music nut ever since. He spends as much time outdoors as he can.
URL:https://www.ktim.org/event/the-doughouse-2/2026-10-23/
ATTACH;FMTTYPE=image/jpeg:https://www.ktim.org/wp-content/uploads/2025/04/doug_400x200.jpg
END:VEVENT
BEGIN:VEVENT
DTSTART;TZID=America/Chicago:20261030T120000
DTEND;TZID=America/Chicago:20261030T130000
DTSTAMP:20260423T110318
CREATED:20250416T234837Z
LAST-MODIFIED:20250416T234837Z
UID:10003757-1793361600-1793365200@www.ktim.org
SUMMARY:The DougHouse
DESCRIPTION:Hosted by Doug Elliot\nMondays 5pm-6pm\, Fridays Noon-1pm \nThe DougHouse mixes nuggets from LPs with a healthy dose of B-sides. A little history and backstory shows up now and then in between the tunes. \nDoug Elliot\, aka “The Fayette County Sky Guy”\, grew up listening to 45s and LPs back in the 60s and has been a record collector and certified music nut ever since. He spends as much time outdoors as he can.
URL:https://www.ktim.org/event/the-doughouse-2/2026-10-30/
ATTACH;FMTTYPE=image/jpeg:https://www.ktim.org/wp-content/uploads/2025/04/doug_400x200.jpg
END:VEVENT
BEGIN:VEVENT
DTSTART;TZID=America/Chicago:20261106T120000
DTEND;TZID=America/Chicago:20261106T130000
DTSTAMP:20260423T110318
CREATED:20250416T234837Z
LAST-MODIFIED:20250416T234837Z
UID:10003758-1793966400-1793970000@www.ktim.org
SUMMARY:The DougHouse
DESCRIPTION:Hosted by Doug Elliot\nMondays 5pm-6pm\, Fridays Noon-1pm \nThe DougHouse mixes nuggets from LPs with a healthy dose of B-sides. A little history and backstory shows up now and then in between the tunes. \nDoug Elliot\, aka “The Fayette County Sky Guy”\, grew up listening to 45s and LPs back in the 60s and has been a record collector and certified music nut ever since. He spends as much time outdoors as he can.
URL:https://www.ktim.org/event/the-doughouse-2/2026-11-06/
ATTACH;FMTTYPE=image/jpeg:https://www.ktim.org/wp-content/uploads/2025/04/doug_400x200.jpg
END:VEVENT
BEGIN:VEVENT
DTSTART;TZID=America/Chicago:20261113T120000
DTEND;TZID=America/Chicago:20261113T130000
DTSTAMP:20260423T110318
CREATED:20250416T234837Z
LAST-MODIFIED:20250416T234837Z
UID:10003759-1794571200-1794574800@www.ktim.org
SUMMARY:The DougHouse
DESCRIPTION:Hosted by Doug Elliot\nMondays 5pm-6pm\, Fridays Noon-1pm \nThe DougHouse mixes nuggets from LPs with a healthy dose of B-sides. A little history and backstory shows up now and then in between the tunes. \nDoug Elliot\, aka “The Fayette County Sky Guy”\, grew up listening to 45s and LPs back in the 60s and has been a record collector and certified music nut ever since. He spends as much time outdoors as he can.
URL:https://www.ktim.org/event/the-doughouse-2/2026-11-13/
ATTACH;FMTTYPE=image/jpeg:https://www.ktim.org/wp-content/uploads/2025/04/doug_400x200.jpg
END:VEVENT
END:VCALENDAR