BEGIN:VCALENDAR
VERSION:2.0
PRODID:-//K-TIMe | KTIM 89.1 FM Music Sports Talk Radio | La Grange, Texas - ECPv6.15.20//NONSGML v1.0//EN
CALSCALE:GREGORIAN
METHOD:PUBLISH
X-WR-CALNAME:K-TIMe | KTIM 89.1 FM Music Sports Talk Radio | La Grange, Texas
X-ORIGINAL-URL:https://www.ktim.org
X-WR-CALDESC:Events for K-TIMe | KTIM 89.1 FM Music Sports Talk Radio | La Grange, Texas
REFRESH-INTERVAL;VALUE=DURATION:PT1H
X-Robots-Tag:noindex
X-PUBLISHED-TTL:PT1H
BEGIN:VTIMEZONE
TZID:America/Chicago
BEGIN:DAYLIGHT
TZOFFSETFROM:-0600
TZOFFSETTO:-0500
TZNAME:CDT
DTSTART:20250309T080000
END:DAYLIGHT
BEGIN:STANDARD
TZOFFSETFROM:-0500
TZOFFSETTO:-0600
TZNAME:CST
DTSTART:20251102T070000
END:STANDARD
BEGIN:DAYLIGHT
TZOFFSETFROM:-0600
TZOFFSETTO:-0500
TZNAME:CDT
DTSTART:20260308T080000
END:DAYLIGHT
BEGIN:STANDARD
TZOFFSETFROM:-0500
TZOFFSETTO:-0600
TZNAME:CST
DTSTART:20261101T070000
END:STANDARD
BEGIN:DAYLIGHT
TZOFFSETFROM:-0600
TZOFFSETTO:-0500
TZNAME:CDT
DTSTART:20270314T080000
END:DAYLIGHT
BEGIN:STANDARD
TZOFFSETFROM:-0500
TZOFFSETTO:-0600
TZNAME:CST
DTSTART:20271107T070000
END:STANDARD
END:VTIMEZONE
BEGIN:VEVENT
DTSTART;TZID=America/Chicago:20260424T100000
DTEND;TZID=America/Chicago:20260424T120000
DTSTAMP:20260423T123823
CREATED:20250416T235730Z
LAST-MODIFIED:20250416T235730Z
UID:10004282-1777024800-1777032000@www.ktim.org
SUMMARY:Across the Board with Becky
DESCRIPTION:
URL:https://www.ktim.org/event/across-the-board-with-becky-2/2026-04-24/
END:VEVENT
BEGIN:VEVENT
DTSTART;TZID=America/Chicago:20260501T100000
DTEND;TZID=America/Chicago:20260501T120000
DTSTAMP:20260423T123823
CREATED:20250416T235730Z
LAST-MODIFIED:20250416T235730Z
UID:10004283-1777629600-1777636800@www.ktim.org
SUMMARY:Across the Board with Becky
DESCRIPTION:
URL:https://www.ktim.org/event/across-the-board-with-becky-2/2026-05-01/
END:VEVENT
BEGIN:VEVENT
DTSTART;TZID=America/Chicago:20260508T100000
DTEND;TZID=America/Chicago:20260508T120000
DTSTAMP:20260423T123823
CREATED:20250416T235730Z
LAST-MODIFIED:20250416T235730Z
UID:10004284-1778234400-1778241600@www.ktim.org
SUMMARY:Across the Board with Becky
DESCRIPTION:
URL:https://www.ktim.org/event/across-the-board-with-becky-2/2026-05-08/
END:VEVENT
BEGIN:VEVENT
DTSTART;TZID=America/Chicago:20260515T100000
DTEND;TZID=America/Chicago:20260515T120000
DTSTAMP:20260423T123823
CREATED:20250416T235730Z
LAST-MODIFIED:20250416T235730Z
UID:10004285-1778839200-1778846400@www.ktim.org
SUMMARY:Across the Board with Becky
DESCRIPTION:
URL:https://www.ktim.org/event/across-the-board-with-becky-2/2026-05-15/
END:VEVENT
BEGIN:VEVENT
DTSTART;TZID=America/Chicago:20260522T100000
DTEND;TZID=America/Chicago:20260522T120000
DTSTAMP:20260423T123823
CREATED:20250416T235730Z
LAST-MODIFIED:20250416T235730Z
UID:10004286-1779444000-1779451200@www.ktim.org
SUMMARY:Across the Board with Becky
DESCRIPTION:
URL:https://www.ktim.org/event/across-the-board-with-becky-2/2026-05-22/
END:VEVENT
BEGIN:VEVENT
DTSTART;TZID=America/Chicago:20260529T100000
DTEND;TZID=America/Chicago:20260529T120000
DTSTAMP:20260423T123823
CREATED:20250416T235730Z
LAST-MODIFIED:20250416T235730Z
UID:10004287-1780048800-1780056000@www.ktim.org
SUMMARY:Across the Board with Becky
DESCRIPTION:
URL:https://www.ktim.org/event/across-the-board-with-becky-2/2026-05-29/
END:VEVENT
BEGIN:VEVENT
DTSTART;TZID=America/Chicago:20260605T100000
DTEND;TZID=America/Chicago:20260605T120000
DTSTAMP:20260423T123823
CREATED:20250416T235730Z
LAST-MODIFIED:20250416T235730Z
UID:10004288-1780653600-1780660800@www.ktim.org
SUMMARY:Across the Board with Becky
DESCRIPTION:
URL:https://www.ktim.org/event/across-the-board-with-becky-2/2026-06-05/
END:VEVENT
BEGIN:VEVENT
DTSTART;TZID=America/Chicago:20260612T100000
DTEND;TZID=America/Chicago:20260612T120000
DTSTAMP:20260423T123823
CREATED:20250416T235730Z
LAST-MODIFIED:20250416T235730Z
UID:10004289-1781258400-1781265600@www.ktim.org
SUMMARY:Across the Board with Becky
DESCRIPTION:
URL:https://www.ktim.org/event/across-the-board-with-becky-2/2026-06-12/
END:VEVENT
BEGIN:VEVENT
DTSTART;TZID=America/Chicago:20260619T100000
DTEND;TZID=America/Chicago:20260619T120000
DTSTAMP:20260423T123823
CREATED:20250416T235730Z
LAST-MODIFIED:20250416T235730Z
UID:10004290-1781863200-1781870400@www.ktim.org
SUMMARY:Across the Board with Becky
DESCRIPTION:
URL:https://www.ktim.org/event/across-the-board-with-becky-2/2026-06-19/
END:VEVENT
BEGIN:VEVENT
DTSTART;TZID=America/Chicago:20260626T100000
DTEND;TZID=America/Chicago:20260626T120000
DTSTAMP:20260423T123823
CREATED:20250416T235730Z
LAST-MODIFIED:20250416T235730Z
UID:10004291-1782468000-1782475200@www.ktim.org
SUMMARY:Across the Board with Becky
DESCRIPTION:
URL:https://www.ktim.org/event/across-the-board-with-becky-2/2026-06-26/
END:VEVENT
BEGIN:VEVENT
DTSTART;TZID=America/Chicago:20260703T100000
DTEND;TZID=America/Chicago:20260703T120000
DTSTAMP:20260423T123823
CREATED:20250416T235730Z
LAST-MODIFIED:20250416T235730Z
UID:10004292-1783072800-1783080000@www.ktim.org
SUMMARY:Across the Board with Becky
DESCRIPTION:
URL:https://www.ktim.org/event/across-the-board-with-becky-2/2026-07-03/
END:VEVENT
BEGIN:VEVENT
DTSTART;TZID=America/Chicago:20260710T100000
DTEND;TZID=America/Chicago:20260710T120000
DTSTAMP:20260423T123823
CREATED:20250416T235730Z
LAST-MODIFIED:20250416T235730Z
UID:10004293-1783677600-1783684800@www.ktim.org
SUMMARY:Across the Board with Becky
DESCRIPTION:
URL:https://www.ktim.org/event/across-the-board-with-becky-2/2026-07-10/
END:VEVENT
BEGIN:VEVENT
DTSTART;TZID=America/Chicago:20260717T100000
DTEND;TZID=America/Chicago:20260717T120000
DTSTAMP:20260423T123823
CREATED:20250416T235730Z
LAST-MODIFIED:20250416T235730Z
UID:10004294-1784282400-1784289600@www.ktim.org
SUMMARY:Across the Board with Becky
DESCRIPTION:
URL:https://www.ktim.org/event/across-the-board-with-becky-2/2026-07-17/
END:VEVENT
BEGIN:VEVENT
DTSTART;TZID=America/Chicago:20260724T100000
DTEND;TZID=America/Chicago:20260724T120000
DTSTAMP:20260423T123823
CREATED:20250416T235730Z
LAST-MODIFIED:20250416T235730Z
UID:10004295-1784887200-1784894400@www.ktim.org
SUMMARY:Across the Board with Becky
DESCRIPTION:
URL:https://www.ktim.org/event/across-the-board-with-becky-2/2026-07-24/
END:VEVENT
BEGIN:VEVENT
DTSTART;TZID=America/Chicago:20260731T100000
DTEND;TZID=America/Chicago:20260731T120000
DTSTAMP:20260423T123823
CREATED:20250416T235730Z
LAST-MODIFIED:20250416T235730Z
UID:10004296-1785492000-1785499200@www.ktim.org
SUMMARY:Across the Board with Becky
DESCRIPTION:
URL:https://www.ktim.org/event/across-the-board-with-becky-2/2026-07-31/
END:VEVENT
BEGIN:VEVENT
DTSTART;TZID=America/Chicago:20260807T100000
DTEND;TZID=America/Chicago:20260807T120000
DTSTAMP:20260423T123823
CREATED:20250416T235730Z
LAST-MODIFIED:20250416T235730Z
UID:10004297-1786096800-1786104000@www.ktim.org
SUMMARY:Across the Board with Becky
DESCRIPTION:
URL:https://www.ktim.org/event/across-the-board-with-becky-2/2026-08-07/
END:VEVENT
BEGIN:VEVENT
DTSTART;TZID=America/Chicago:20260814T100000
DTEND;TZID=America/Chicago:20260814T120000
DTSTAMP:20260423T123823
CREATED:20250416T235730Z
LAST-MODIFIED:20250416T235730Z
UID:10004298-1786701600-1786708800@www.ktim.org
SUMMARY:Across the Board with Becky
DESCRIPTION:
URL:https://www.ktim.org/event/across-the-board-with-becky-2/2026-08-14/
END:VEVENT
BEGIN:VEVENT
DTSTART;TZID=America/Chicago:20260821T100000
DTEND;TZID=America/Chicago:20260821T120000
DTSTAMP:20260423T123823
CREATED:20250416T235730Z
LAST-MODIFIED:20250416T235730Z
UID:10004299-1787306400-1787313600@www.ktim.org
SUMMARY:Across the Board with Becky
DESCRIPTION:
URL:https://www.ktim.org/event/across-the-board-with-becky-2/2026-08-21/
END:VEVENT
BEGIN:VEVENT
DTSTART;TZID=America/Chicago:20260828T100000
DTEND;TZID=America/Chicago:20260828T120000
DTSTAMP:20260423T123823
CREATED:20250416T235730Z
LAST-MODIFIED:20250416T235730Z
UID:10004300-1787911200-1787918400@www.ktim.org
SUMMARY:Across the Board with Becky
DESCRIPTION:
URL:https://www.ktim.org/event/across-the-board-with-becky-2/2026-08-28/
END:VEVENT
BEGIN:VEVENT
DTSTART;TZID=America/Chicago:20260904T100000
DTEND;TZID=America/Chicago:20260904T120000
DTSTAMP:20260423T123823
CREATED:20250416T235730Z
LAST-MODIFIED:20250416T235730Z
UID:10004301-1788516000-1788523200@www.ktim.org
SUMMARY:Across the Board with Becky
DESCRIPTION:
URL:https://www.ktim.org/event/across-the-board-with-becky-2/2026-09-04/
END:VEVENT
BEGIN:VEVENT
DTSTART;TZID=America/Chicago:20260911T100000
DTEND;TZID=America/Chicago:20260911T120000
DTSTAMP:20260423T123823
CREATED:20250416T235730Z
LAST-MODIFIED:20250416T235730Z
UID:10004302-1789120800-1789128000@www.ktim.org
SUMMARY:Across the Board with Becky
DESCRIPTION:
URL:https://www.ktim.org/event/across-the-board-with-becky-2/2026-09-11/
END:VEVENT
BEGIN:VEVENT
DTSTART;TZID=America/Chicago:20260918T100000
DTEND;TZID=America/Chicago:20260918T120000
DTSTAMP:20260423T123823
CREATED:20250416T235730Z
LAST-MODIFIED:20250416T235730Z
UID:10004303-1789725600-1789732800@www.ktim.org
SUMMARY:Across the Board with Becky
DESCRIPTION:
URL:https://www.ktim.org/event/across-the-board-with-becky-2/2026-09-18/
END:VEVENT
BEGIN:VEVENT
DTSTART;TZID=America/Chicago:20260925T100000
DTEND;TZID=America/Chicago:20260925T120000
DTSTAMP:20260423T123823
CREATED:20250416T235730Z
LAST-MODIFIED:20250416T235730Z
UID:10004304-1790330400-1790337600@www.ktim.org
SUMMARY:Across the Board with Becky
DESCRIPTION:
URL:https://www.ktim.org/event/across-the-board-with-becky-2/2026-09-25/
END:VEVENT
BEGIN:VEVENT
DTSTART;TZID=America/Chicago:20261002T100000
DTEND;TZID=America/Chicago:20261002T120000
DTSTAMP:20260423T123823
CREATED:20250416T235730Z
LAST-MODIFIED:20250416T235730Z
UID:10004305-1790935200-1790942400@www.ktim.org
SUMMARY:Across the Board with Becky
DESCRIPTION:
URL:https://www.ktim.org/event/across-the-board-with-becky-2/2026-10-02/
END:VEVENT
BEGIN:VEVENT
DTSTART;TZID=America/Chicago:20261009T100000
DTEND;TZID=America/Chicago:20261009T120000
DTSTAMP:20260423T123823
CREATED:20250416T235730Z
LAST-MODIFIED:20250416T235730Z
UID:10004306-1791540000-1791547200@www.ktim.org
SUMMARY:Across the Board with Becky
DESCRIPTION:
URL:https://www.ktim.org/event/across-the-board-with-becky-2/2026-10-09/
END:VEVENT
BEGIN:VEVENT
DTSTART;TZID=America/Chicago:20261016T100000
DTEND;TZID=America/Chicago:20261016T120000
DTSTAMP:20260423T123823
CREATED:20250416T235730Z
LAST-MODIFIED:20250416T235730Z
UID:10004307-1792144800-1792152000@www.ktim.org
SUMMARY:Across the Board with Becky
DESCRIPTION:
URL:https://www.ktim.org/event/across-the-board-with-becky-2/2026-10-16/
END:VEVENT
BEGIN:VEVENT
DTSTART;TZID=America/Chicago:20261023T100000
DTEND;TZID=America/Chicago:20261023T120000
DTSTAMP:20260423T123823
CREATED:20250416T235730Z
LAST-MODIFIED:20250416T235730Z
UID:10004308-1792749600-1792756800@www.ktim.org
SUMMARY:Across the Board with Becky
DESCRIPTION:
URL:https://www.ktim.org/event/across-the-board-with-becky-2/2026-10-23/
END:VEVENT
BEGIN:VEVENT
DTSTART;TZID=America/Chicago:20261030T100000
DTEND;TZID=America/Chicago:20261030T120000
DTSTAMP:20260423T123823
CREATED:20250416T235730Z
LAST-MODIFIED:20250416T235730Z
UID:10004309-1793354400-1793361600@www.ktim.org
SUMMARY:Across the Board with Becky
DESCRIPTION:
URL:https://www.ktim.org/event/across-the-board-with-becky-2/2026-10-30/
END:VEVENT
BEGIN:VEVENT
DTSTART;TZID=America/Chicago:20261106T100000
DTEND;TZID=America/Chicago:20261106T120000
DTSTAMP:20260423T123823
CREATED:20250416T235730Z
LAST-MODIFIED:20250416T235730Z
UID:10004310-1793959200-1793966400@www.ktim.org
SUMMARY:Across the Board with Becky
DESCRIPTION:
URL:https://www.ktim.org/event/across-the-board-with-becky-2/2026-11-06/
END:VEVENT
BEGIN:VEVENT
DTSTART;TZID=America/Chicago:20261113T100000
DTEND;TZID=America/Chicago:20261113T120000
DTSTAMP:20260423T123823
CREATED:20250416T235730Z
LAST-MODIFIED:20250416T235730Z
UID:10004311-1794564000-1794571200@www.ktim.org
SUMMARY:Across the Board with Becky
DESCRIPTION:
URL:https://www.ktim.org/event/across-the-board-with-becky-2/2026-11-13/
END:VEVENT
END:VCALENDAR