BEGIN:VCALENDAR
VERSION:2.0
PRODID:-//K-TIMe | KTIM 89.1 FM Music Sports Talk Radio | La Grange, Texas - ECPv6.15.20//NONSGML v1.0//EN
CALSCALE:GREGORIAN
METHOD:PUBLISH
X-WR-CALNAME:K-TIMe | KTIM 89.1 FM Music Sports Talk Radio | La Grange, Texas
X-ORIGINAL-URL:https://www.ktim.org
X-WR-CALDESC:Events for K-TIMe | KTIM 89.1 FM Music Sports Talk Radio | La Grange, Texas
REFRESH-INTERVAL;VALUE=DURATION:PT1H
X-Robots-Tag:noindex
X-PUBLISHED-TTL:PT1H
BEGIN:VTIMEZONE
TZID:America/Chicago
BEGIN:DAYLIGHT
TZOFFSETFROM:-0600
TZOFFSETTO:-0500
TZNAME:CDT
DTSTART:20250309T080000
END:DAYLIGHT
BEGIN:STANDARD
TZOFFSETFROM:-0500
TZOFFSETTO:-0600
TZNAME:CST
DTSTART:20251102T070000
END:STANDARD
BEGIN:DAYLIGHT
TZOFFSETFROM:-0600
TZOFFSETTO:-0500
TZNAME:CDT
DTSTART:20260308T080000
END:DAYLIGHT
BEGIN:STANDARD
TZOFFSETFROM:-0500
TZOFFSETTO:-0600
TZNAME:CST
DTSTART:20261101T070000
END:STANDARD
BEGIN:DAYLIGHT
TZOFFSETFROM:-0600
TZOFFSETTO:-0500
TZNAME:CDT
DTSTART:20270314T080000
END:DAYLIGHT
BEGIN:STANDARD
TZOFFSETFROM:-0500
TZOFFSETTO:-0600
TZNAME:CST
DTSTART:20271107T070000
END:STANDARD
END:VTIMEZONE
BEGIN:VEVENT
DTSTART;TZID=America/Chicago:20260426T120000
DTEND;TZID=America/Chicago:20260426T123000
DTSTAMP:20260423T111048
CREATED:20250416T213628Z
LAST-MODIFIED:20250416T213628Z
UID:10001105-1777204800-1777206600@www.ktim.org
SUMMARY:Shared Lutheran Ministry Church Service
DESCRIPTION:
URL:https://www.ktim.org/event/shared-lutheran-ministry-church-service/2026-04-26/
END:VEVENT
BEGIN:VEVENT
DTSTART;TZID=America/Chicago:20260503T120000
DTEND;TZID=America/Chicago:20260503T123000
DTSTAMP:20260423T111048
CREATED:20250416T213628Z
LAST-MODIFIED:20250416T213628Z
UID:10001106-1777809600-1777811400@www.ktim.org
SUMMARY:Shared Lutheran Ministry Church Service
DESCRIPTION:
URL:https://www.ktim.org/event/shared-lutheran-ministry-church-service/2026-05-03/
END:VEVENT
BEGIN:VEVENT
DTSTART;TZID=America/Chicago:20260510T120000
DTEND;TZID=America/Chicago:20260510T123000
DTSTAMP:20260423T111048
CREATED:20250416T213628Z
LAST-MODIFIED:20250416T213628Z
UID:10001107-1778414400-1778416200@www.ktim.org
SUMMARY:Shared Lutheran Ministry Church Service
DESCRIPTION:
URL:https://www.ktim.org/event/shared-lutheran-ministry-church-service/2026-05-10/
END:VEVENT
BEGIN:VEVENT
DTSTART;TZID=America/Chicago:20260517T120000
DTEND;TZID=America/Chicago:20260517T123000
DTSTAMP:20260423T111048
CREATED:20250416T213628Z
LAST-MODIFIED:20250416T213628Z
UID:10001108-1779019200-1779021000@www.ktim.org
SUMMARY:Shared Lutheran Ministry Church Service
DESCRIPTION:
URL:https://www.ktim.org/event/shared-lutheran-ministry-church-service/2026-05-17/
END:VEVENT
BEGIN:VEVENT
DTSTART;TZID=America/Chicago:20260524T120000
DTEND;TZID=America/Chicago:20260524T123000
DTSTAMP:20260423T111048
CREATED:20250416T213628Z
LAST-MODIFIED:20250416T213628Z
UID:10001109-1779624000-1779625800@www.ktim.org
SUMMARY:Shared Lutheran Ministry Church Service
DESCRIPTION:
URL:https://www.ktim.org/event/shared-lutheran-ministry-church-service/2026-05-24/
END:VEVENT
BEGIN:VEVENT
DTSTART;TZID=America/Chicago:20260531T120000
DTEND;TZID=America/Chicago:20260531T123000
DTSTAMP:20260423T111048
CREATED:20250416T213628Z
LAST-MODIFIED:20250416T213628Z
UID:10001110-1780228800-1780230600@www.ktim.org
SUMMARY:Shared Lutheran Ministry Church Service
DESCRIPTION:
URL:https://www.ktim.org/event/shared-lutheran-ministry-church-service/2026-05-31/
END:VEVENT
BEGIN:VEVENT
DTSTART;TZID=America/Chicago:20260607T120000
DTEND;TZID=America/Chicago:20260607T123000
DTSTAMP:20260423T111048
CREATED:20250416T213628Z
LAST-MODIFIED:20250416T213628Z
UID:10001111-1780833600-1780835400@www.ktim.org
SUMMARY:Shared Lutheran Ministry Church Service
DESCRIPTION:
URL:https://www.ktim.org/event/shared-lutheran-ministry-church-service/2026-06-07/
END:VEVENT
BEGIN:VEVENT
DTSTART;TZID=America/Chicago:20260614T120000
DTEND;TZID=America/Chicago:20260614T123000
DTSTAMP:20260423T111048
CREATED:20250416T213628Z
LAST-MODIFIED:20250416T213628Z
UID:10001112-1781438400-1781440200@www.ktim.org
SUMMARY:Shared Lutheran Ministry Church Service
DESCRIPTION:
URL:https://www.ktim.org/event/shared-lutheran-ministry-church-service/2026-06-14/
END:VEVENT
BEGIN:VEVENT
DTSTART;TZID=America/Chicago:20260621T120000
DTEND;TZID=America/Chicago:20260621T123000
DTSTAMP:20260423T111048
CREATED:20250416T213628Z
LAST-MODIFIED:20250416T213628Z
UID:10001113-1782043200-1782045000@www.ktim.org
SUMMARY:Shared Lutheran Ministry Church Service
DESCRIPTION:
URL:https://www.ktim.org/event/shared-lutheran-ministry-church-service/2026-06-21/
END:VEVENT
BEGIN:VEVENT
DTSTART;TZID=America/Chicago:20260628T120000
DTEND;TZID=America/Chicago:20260628T123000
DTSTAMP:20260423T111048
CREATED:20250416T213628Z
LAST-MODIFIED:20250416T213628Z
UID:10001114-1782648000-1782649800@www.ktim.org
SUMMARY:Shared Lutheran Ministry Church Service
DESCRIPTION:
URL:https://www.ktim.org/event/shared-lutheran-ministry-church-service/2026-06-28/
END:VEVENT
BEGIN:VEVENT
DTSTART;TZID=America/Chicago:20260705T120000
DTEND;TZID=America/Chicago:20260705T123000
DTSTAMP:20260423T111048
CREATED:20250416T213628Z
LAST-MODIFIED:20250416T213628Z
UID:10001115-1783252800-1783254600@www.ktim.org
SUMMARY:Shared Lutheran Ministry Church Service
DESCRIPTION:
URL:https://www.ktim.org/event/shared-lutheran-ministry-church-service/2026-07-05/
END:VEVENT
BEGIN:VEVENT
DTSTART;TZID=America/Chicago:20260712T120000
DTEND;TZID=America/Chicago:20260712T123000
DTSTAMP:20260423T111048
CREATED:20250416T213628Z
LAST-MODIFIED:20250416T213628Z
UID:10001116-1783857600-1783859400@www.ktim.org
SUMMARY:Shared Lutheran Ministry Church Service
DESCRIPTION:
URL:https://www.ktim.org/event/shared-lutheran-ministry-church-service/2026-07-12/
END:VEVENT
BEGIN:VEVENT
DTSTART;TZID=America/Chicago:20260719T120000
DTEND;TZID=America/Chicago:20260719T123000
DTSTAMP:20260423T111048
CREATED:20250416T213628Z
LAST-MODIFIED:20250416T213628Z
UID:10001117-1784462400-1784464200@www.ktim.org
SUMMARY:Shared Lutheran Ministry Church Service
DESCRIPTION:
URL:https://www.ktim.org/event/shared-lutheran-ministry-church-service/2026-07-19/
END:VEVENT
BEGIN:VEVENT
DTSTART;TZID=America/Chicago:20260726T120000
DTEND;TZID=America/Chicago:20260726T123000
DTSTAMP:20260423T111048
CREATED:20250416T213628Z
LAST-MODIFIED:20250416T213628Z
UID:10001118-1785067200-1785069000@www.ktim.org
SUMMARY:Shared Lutheran Ministry Church Service
DESCRIPTION:
URL:https://www.ktim.org/event/shared-lutheran-ministry-church-service/2026-07-26/
END:VEVENT
BEGIN:VEVENT
DTSTART;TZID=America/Chicago:20260802T120000
DTEND;TZID=America/Chicago:20260802T123000
DTSTAMP:20260423T111048
CREATED:20250416T213628Z
LAST-MODIFIED:20250416T213628Z
UID:10001119-1785672000-1785673800@www.ktim.org
SUMMARY:Shared Lutheran Ministry Church Service
DESCRIPTION:
URL:https://www.ktim.org/event/shared-lutheran-ministry-church-service/2026-08-02/
END:VEVENT
BEGIN:VEVENT
DTSTART;TZID=America/Chicago:20260809T120000
DTEND;TZID=America/Chicago:20260809T123000
DTSTAMP:20260423T111048
CREATED:20250416T213628Z
LAST-MODIFIED:20250416T213628Z
UID:10001120-1786276800-1786278600@www.ktim.org
SUMMARY:Shared Lutheran Ministry Church Service
DESCRIPTION:
URL:https://www.ktim.org/event/shared-lutheran-ministry-church-service/2026-08-09/
END:VEVENT
BEGIN:VEVENT
DTSTART;TZID=America/Chicago:20260816T120000
DTEND;TZID=America/Chicago:20260816T123000
DTSTAMP:20260423T111048
CREATED:20250416T213628Z
LAST-MODIFIED:20250416T213628Z
UID:10001121-1786881600-1786883400@www.ktim.org
SUMMARY:Shared Lutheran Ministry Church Service
DESCRIPTION:
URL:https://www.ktim.org/event/shared-lutheran-ministry-church-service/2026-08-16/
END:VEVENT
BEGIN:VEVENT
DTSTART;TZID=America/Chicago:20260823T120000
DTEND;TZID=America/Chicago:20260823T123000
DTSTAMP:20260423T111048
CREATED:20250416T213628Z
LAST-MODIFIED:20250416T213628Z
UID:10001122-1787486400-1787488200@www.ktim.org
SUMMARY:Shared Lutheran Ministry Church Service
DESCRIPTION:
URL:https://www.ktim.org/event/shared-lutheran-ministry-church-service/2026-08-23/
END:VEVENT
BEGIN:VEVENT
DTSTART;TZID=America/Chicago:20260830T120000
DTEND;TZID=America/Chicago:20260830T123000
DTSTAMP:20260423T111048
CREATED:20250416T213628Z
LAST-MODIFIED:20250416T213628Z
UID:10001123-1788091200-1788093000@www.ktim.org
SUMMARY:Shared Lutheran Ministry Church Service
DESCRIPTION:
URL:https://www.ktim.org/event/shared-lutheran-ministry-church-service/2026-08-30/
END:VEVENT
BEGIN:VEVENT
DTSTART;TZID=America/Chicago:20260906T120000
DTEND;TZID=America/Chicago:20260906T123000
DTSTAMP:20260423T111048
CREATED:20250416T213628Z
LAST-MODIFIED:20250416T213628Z
UID:10001124-1788696000-1788697800@www.ktim.org
SUMMARY:Shared Lutheran Ministry Church Service
DESCRIPTION:
URL:https://www.ktim.org/event/shared-lutheran-ministry-church-service/2026-09-06/
END:VEVENT
BEGIN:VEVENT
DTSTART;TZID=America/Chicago:20260913T120000
DTEND;TZID=America/Chicago:20260913T123000
DTSTAMP:20260423T111048
CREATED:20250416T213628Z
LAST-MODIFIED:20250416T213628Z
UID:10001125-1789300800-1789302600@www.ktim.org
SUMMARY:Shared Lutheran Ministry Church Service
DESCRIPTION:
URL:https://www.ktim.org/event/shared-lutheran-ministry-church-service/2026-09-13/
END:VEVENT
BEGIN:VEVENT
DTSTART;TZID=America/Chicago:20260920T120000
DTEND;TZID=America/Chicago:20260920T123000
DTSTAMP:20260423T111048
CREATED:20250416T213628Z
LAST-MODIFIED:20250416T213628Z
UID:10001126-1789905600-1789907400@www.ktim.org
SUMMARY:Shared Lutheran Ministry Church Service
DESCRIPTION:
URL:https://www.ktim.org/event/shared-lutheran-ministry-church-service/2026-09-20/
END:VEVENT
BEGIN:VEVENT
DTSTART;TZID=America/Chicago:20260927T120000
DTEND;TZID=America/Chicago:20260927T123000
DTSTAMP:20260423T111048
CREATED:20250416T213628Z
LAST-MODIFIED:20250416T213628Z
UID:10001127-1790510400-1790512200@www.ktim.org
SUMMARY:Shared Lutheran Ministry Church Service
DESCRIPTION:
URL:https://www.ktim.org/event/shared-lutheran-ministry-church-service/2026-09-27/
END:VEVENT
BEGIN:VEVENT
DTSTART;TZID=America/Chicago:20261004T120000
DTEND;TZID=America/Chicago:20261004T123000
DTSTAMP:20260423T111048
CREATED:20250416T213628Z
LAST-MODIFIED:20250416T213628Z
UID:10001128-1791115200-1791117000@www.ktim.org
SUMMARY:Shared Lutheran Ministry Church Service
DESCRIPTION:
URL:https://www.ktim.org/event/shared-lutheran-ministry-church-service/2026-10-04/
END:VEVENT
BEGIN:VEVENT
DTSTART;TZID=America/Chicago:20261011T120000
DTEND;TZID=America/Chicago:20261011T123000
DTSTAMP:20260423T111048
CREATED:20250416T213628Z
LAST-MODIFIED:20250416T213628Z
UID:10001129-1791720000-1791721800@www.ktim.org
SUMMARY:Shared Lutheran Ministry Church Service
DESCRIPTION:
URL:https://www.ktim.org/event/shared-lutheran-ministry-church-service/2026-10-11/
END:VEVENT
BEGIN:VEVENT
DTSTART;TZID=America/Chicago:20261018T120000
DTEND;TZID=America/Chicago:20261018T123000
DTSTAMP:20260423T111048
CREATED:20250416T213628Z
LAST-MODIFIED:20250416T213628Z
UID:10001130-1792324800-1792326600@www.ktim.org
SUMMARY:Shared Lutheran Ministry Church Service
DESCRIPTION:
URL:https://www.ktim.org/event/shared-lutheran-ministry-church-service/2026-10-18/
END:VEVENT
BEGIN:VEVENT
DTSTART;TZID=America/Chicago:20261025T120000
DTEND;TZID=America/Chicago:20261025T123000
DTSTAMP:20260423T111048
CREATED:20250416T213628Z
LAST-MODIFIED:20250416T213628Z
UID:10001131-1792929600-1792931400@www.ktim.org
SUMMARY:Shared Lutheran Ministry Church Service
DESCRIPTION:
URL:https://www.ktim.org/event/shared-lutheran-ministry-church-service/2026-10-25/
END:VEVENT
BEGIN:VEVENT
DTSTART;TZID=America/Chicago:20261101T120000
DTEND;TZID=America/Chicago:20261101T123000
DTSTAMP:20260423T111048
CREATED:20250416T213628Z
LAST-MODIFIED:20250416T213628Z
UID:10001132-1793534400-1793536200@www.ktim.org
SUMMARY:Shared Lutheran Ministry Church Service
DESCRIPTION:
URL:https://www.ktim.org/event/shared-lutheran-ministry-church-service/2026-11-01/
END:VEVENT
BEGIN:VEVENT
DTSTART;TZID=America/Chicago:20261108T120000
DTEND;TZID=America/Chicago:20261108T123000
DTSTAMP:20260423T111048
CREATED:20250416T213628Z
LAST-MODIFIED:20250416T213628Z
UID:10001133-1794139200-1794141000@www.ktim.org
SUMMARY:Shared Lutheran Ministry Church Service
DESCRIPTION:
URL:https://www.ktim.org/event/shared-lutheran-ministry-church-service/2026-11-08/
END:VEVENT
BEGIN:VEVENT
DTSTART;TZID=America/Chicago:20261115T120000
DTEND;TZID=America/Chicago:20261115T123000
DTSTAMP:20260423T111048
CREATED:20250416T213628Z
LAST-MODIFIED:20250416T213628Z
UID:10001134-1794744000-1794745800@www.ktim.org
SUMMARY:Shared Lutheran Ministry Church Service
DESCRIPTION:
URL:https://www.ktim.org/event/shared-lutheran-ministry-church-service/2026-11-15/
END:VEVENT
END:VCALENDAR